BEGIN:VCALENDAR
VERSION:2.0
PRODID:-//Southwest Institute of Healing Arts | Accredited Healing Arts Programs - ECPv5.16.3.1//NONSGML v1.0//EN
CALSCALE:GREGORIAN
METHOD:PUBLISH
X-ORIGINAL-URL:https://swiha.edu
X-WR-CALDESC:Events for Southwest Institute of Healing Arts | Accredited Healing Arts Programs
REFRESH-INTERVAL;VALUE=DURATION:PT1H
X-Robots-Tag:noindex
X-PUBLISHED-TTL:PT1H
BEGIN:VTIMEZONE
TZID:America/Phoenix
BEGIN:STANDARD
TZOFFSETFROM:-0700
TZOFFSETTO:-0700
TZNAME:MST
DTSTART:20230101T000000
END:STANDARD
END:VTIMEZONE
BEGIN:VEVENT
DTSTART;TZID=America/Phoenix:20230802T163000
DTEND;TZID=America/Phoenix:20230802T173000
DTSTAMP:20260423T214438
CREATED:20221018T224156Z
LAST-MODIFIED:20230404T153919Z
UID:105998-1690993800-1690997400@swiha.edu
SUMMARY:All About SWIHA Massage Programs and Q&A Webinar
DESCRIPTION:You are invited to join the Southwest Institute of Healing Arts’ Webinar to learn more about our Massage Therapy Programs. \nRegister for the webinar HERE \nWithin this Webinar\, we will review the program and curriculum you can expect to learn\, meet a Massage Instructor\, and get updated information about upcoming start dates\, schedules\, tuition\, financial aid\, and more! There will be a Q&A devoted to your questions towards the end of the webinar. \nAfter the webinar\, you are also invited to Experience Massage as a Career – an in-person event designed to give you hands-on experience of the life of a SWIHA massage student! \nYou will have the opportunity to learn about the healing benefits of Massage\, the importance of professional\, safe draping procedures\, and all the career opportunities & support that will be available to you once you graduate! \nThe upcoming Explore Massage as a Career event date is: Saturday\, August 12 from 9 am to 5 pm here at SWIHA. Please call Student Services at 480-994-9244 to reserve your spot today! Spots are limited. \nIf you are searching for a new fulfilling career and have questions about Massage\, join us for a day of exploration!
URL:https://swiha.edu/event/intro-to-massage-school-learn-what-its-like-to-be-a-student-before-you-enroll-3/
ATTACH;FMTTYPE=image/jpeg:https://swiha.edu/wp-content/uploads/2022/10/Massage-Webinar-1.jpg
END:VEVENT
END:VCALENDAR