BEGIN:VCALENDAR
VERSION:2.0
PRODID:-//Southwest Institute of Healing Arts | Accredited Healing Arts Programs - ECPv5.16.3.1//NONSGML v1.0//EN
CALSCALE:GREGORIAN
METHOD:PUBLISH
X-WR-CALNAME:Southwest Institute of Healing Arts | Accredited Healing Arts Programs
X-ORIGINAL-URL:https://swiha.edu
X-WR-CALDESC:Events for Southwest Institute of Healing Arts | Accredited Healing Arts Programs
REFRESH-INTERVAL;VALUE=DURATION:PT1H
X-Robots-Tag:noindex
X-PUBLISHED-TTL:PT1H
BEGIN:VTIMEZONE
TZID:America/Phoenix
BEGIN:STANDARD
TZOFFSETFROM:-0700
TZOFFSETTO:-0700
TZNAME:MST
DTSTART:20230101T000000
END:STANDARD
END:VTIMEZONE
BEGIN:VEVENT
DTSTART;TZID=America/Phoenix:20230804T180000
DTEND;TZID=America/Phoenix:20230804T190000
DTSTAMP:20260423T214448
CREATED:20230628T173412Z
LAST-MODIFIED:20230629T172751Z
UID:106386-1691172000-1691175600@swiha.edu
SUMMARY:Do What You Fear and Fear Will Disappear
DESCRIPTION:Join an inspiring night full of visualizing\, setting goals\, prioritizing and participating in your Journey! Following John Sanders’ insightful presentation\, there will be a special treat! Stay afterwards to watch multiple Bodyworkers demonstrate their Mad-Massage-Skills! Feel the energy that happens when multiple Artists share their knowledge\, modalities and body mechanics at the same time\, including SPECIAL GUEST\, SWIHA Founder KC Miller! \nJohn Sanders began his massage practice 30 years ago in Reno\, Nevada. Relocating to Arizona in 2001\, John established his own private practice. John expanded his education and is certified in Advanced Sports Massage\, Advanced Medical Massage\, Reiki Master\, along with many other modalities. John has been teaching Massage Students as an Instructor for the past 18+ years and has loved every minute being an Instructor at SWIHA. John’s latest achievement in his massage career is being inducted into the World Massage Festival Massage Hall of Fame\, this past July 2023.  \nAfter Gifts and Graces\, come experience a mini energy session from one of our practitioners or vendors. Toe Reading\, Reiki\, Tarot Reading\, Polarity\, Coaching and more will be available. Gratuities are Suggested. \n**This is a complimentary in-person/FB Live event**\nPlease RSVP to attend in person to rsvp@swiha.edu\nPlease RSVP to FB Live here
URL:https://swiha.edu/event/do-what-you-fear-and-fear-will-disappear/
LOCATION:Southwest Institute of Healing Arts\, 1538 E Southern Ave\, Tempe\, AZ\, 85282\, United States
ATTACH;FMTTYPE=image/jpeg:https://swiha.edu/wp-content/uploads/2023/06/Gifts-and-Graces-John-Sanders-2023.jpg
END:VEVENT
END:VCALENDAR