BEGIN:VCALENDAR
VERSION:2.0
PRODID:-//Southwest Institute of Healing Arts | Accredited Healing Arts Programs - ECPv5.16.3.1//NONSGML v1.0//EN
CALSCALE:GREGORIAN
METHOD:PUBLISH
X-WR-CALNAME:Southwest Institute of Healing Arts | Accredited Healing Arts Programs
X-ORIGINAL-URL:https://swiha.edu
X-WR-CALDESC:Events for Southwest Institute of Healing Arts | Accredited Healing Arts Programs
REFRESH-INTERVAL;VALUE=DURATION:PT1H
X-Robots-Tag:noindex
X-PUBLISHED-TTL:PT1H
BEGIN:VTIMEZONE
TZID:America/Phoenix
BEGIN:STANDARD
TZOFFSETFROM:-0700
TZOFFSETTO:-0700
TZNAME:MST
DTSTART:20230101T000000
END:STANDARD
END:VTIMEZONE
BEGIN:VEVENT
DTSTART;TZID=America/Phoenix:20230808T163000
DTEND;TZID=America/Phoenix:20230808T170000
DTSTAMP:20260423T214450
CREATED:20230712T201234Z
LAST-MODIFIED:20230727T151235Z
UID:106413-1691512200-1691514000@swiha.edu
SUMMARY:End of Life Doula Webinar
DESCRIPTION:You are invited to join SWIHA’s Webinar to learn more about the End of Life Doula Certificate of Excellence! This Certificate is offered online and on campus.\nREGISTER HERE: https://us06web.zoom.us/webinar/register/WN_vItVu14DSU6tDnwdES2w_Q \nThis 100-hour Certificate of Excellence explores the last great mystery of life – death. No matter how much we deny\, fear\, or try to avoid the inevitable\, death eventually comes to us all. We will discuss spiritual beliefs about life death and the afterlife. \nDuring this series of courses\, you may confront your own feelings about death and dying and determine what dying well means for you personally. You’ll learn to support clients through the grieving process and conduct rituals and ceremonies for honoring the end of life. Our certificate of excellence programs are avocational\, and these courses/programs are designed exclusively for personal or professional development and enhancement. \nSupport clients as they:\n-Prepare for their own death\n-Leave a legacy for loved ones\n-Prepare for the death of a loved one\n-Grieve\n-Conduct ceremonies\n-Explore burial options that align with their values \nEmails us for any questions at info@swiha.edu
URL:https://swiha.edu/event/end-of-life-doula-webinar/
ATTACH;FMTTYPE=image/png:https://swiha.edu/wp-content/uploads/2023/07/End-of-Life-Doula-E-touch-Banner-600-×-200-px.png
END:VEVENT
END:VCALENDAR