BEGIN:VCALENDAR
VERSION:2.0
PRODID:-//Southwest Institute of Healing Arts | Accredited Healing Arts Programs - ECPv5.16.3.1//NONSGML v1.0//EN
CALSCALE:GREGORIAN
METHOD:PUBLISH
X-ORIGINAL-URL:https://swiha.edu
X-WR-CALDESC:Events for Southwest Institute of Healing Arts | Accredited Healing Arts Programs
REFRESH-INTERVAL;VALUE=DURATION:PT1H
X-Robots-Tag:noindex
X-PUBLISHED-TTL:PT1H
BEGIN:VTIMEZONE
TZID:America/Phoenix
BEGIN:STANDARD
TZOFFSETFROM:-0700
TZOFFSETTO:-0700
TZNAME:MST
DTSTART:20230101T000000
END:STANDARD
END:VTIMEZONE
BEGIN:VEVENT
DTSTART;TZID=America/Phoenix:20230812T090000
DTEND;TZID=America/Phoenix:20230812T170000
DTSTAMP:20260423T214438
CREATED:20220603T205232Z
LAST-MODIFIED:20230328T150840Z
UID:106004-1691830800-1691859600@swiha.edu
SUMMARY:Learn About Massage Therapy as a Career –Complimentary Event
DESCRIPTION:If you are searching for a new career and have questions\, join us for a day of exploration.\nHave you ever imagined what it would be like to be a therapist in the massage industry? Come and explore the possibilities!\nThis experience is designed to give you a firsthand look at the healing benefits of Massage Therapy\, the power of touch\, and the importance of professional\, safe draping procedures. We will also have the opportunity to explore the abundant employment opportunities available for bodywork practitioners. \nYou are welcome to contact our Admissions Department at (480) 994-9244 or by emailing info@swiha.edu.\nThe class will be limited to 14 students. \n#becomeamassagetherapist
URL:https://swiha.edu/event/learn-about-massage-therapy-as-a-career-complimentary-event-2/2023-08-12/
LOCATION:Southwest Institute of Healing Arts\, 1538 E Southern Ave\, Tempe\, AZ\, 85282\, United States
ATTACH;FMTTYPE=image/jpeg:https://swiha.edu/wp-content/uploads/2021/03/Massage-Open-House-banner-complimentary-event.jpg
END:VEVENT
END:VCALENDAR