BEGIN:VCALENDAR
VERSION:2.0
PRODID:-//Southwest Institute of Healing Arts | Accredited Healing Arts Programs - ECPv5.16.3.1//NONSGML v1.0//EN
CALSCALE:GREGORIAN
METHOD:PUBLISH
X-ORIGINAL-URL:https://swiha.edu
X-WR-CALDESC:Events for Southwest Institute of Healing Arts | Accredited Healing Arts Programs
REFRESH-INTERVAL;VALUE=DURATION:PT1H
X-Robots-Tag:noindex
X-PUBLISHED-TTL:PT1H
BEGIN:VTIMEZONE
TZID:America/Phoenix
BEGIN:STANDARD
TZOFFSETFROM:-0700
TZOFFSETTO:-0700
TZNAME:MST
DTSTART:20230101T000000
END:STANDARD
END:VTIMEZONE
BEGIN:VEVENT
DTSTART;TZID=America/Phoenix:20230908T180000
DTEND;TZID=America/Phoenix:20230908T190000
DTSTAMP:20260423T214430
CREATED:20220606T161417Z
LAST-MODIFIED:20220606T161417Z
UID:106278-1694196000-1694199600@swiha.edu
SUMMARY:SWIHA ha ha Laughter Club
DESCRIPTION:Join us for some laughter! \nLaughter will balance and relax you\, reverse unhealthy reactions to stress\, and help you enjoy life more!\nThey say laughter is the best medicine–come find out at SWIHA!\nThis event is complimentary and open to the public! \nNo need to RSVP just show up. Call for questions 480-994-9244\nOur address 1538 E Southern Ave. Tempe\, AZ 85282
URL:https://swiha.edu/event/swiha-ha-ha-laughter-club/2023-09-08/
LOCATION:Southwest Institute of Healing Arts\, 1538 E Southern Ave\, Tempe\, AZ\, 85282\, United States
ATTACH;FMTTYPE=image/jpeg:https://swiha.edu/wp-content/uploads/2022/06/Swiha-ha-ha.jpg
END:VEVENT
BEGIN:VEVENT
DTSTART;TZID=America/Phoenix:20230908T180000
DTEND;TZID=America/Phoenix:20230908T190000
DTSTAMP:20260423T214430
CREATED:20230629T145252Z
LAST-MODIFIED:20230706T144435Z
UID:106393-1694196000-1694199600@swiha.edu
SUMMARY:September Gifts & Graces with Gurudev Shri Amritji
DESCRIPTION:Join Gurudev Shri Amritji as he shares his message from his Book “The Body-The Book of Secrets” \n“I discovered my body is the Book of Secrets. I experience it through the awakening of prana shakti. When I am connected to the body\, the creation of the Divine\, I am connected to the Divine that is manifesting through the prana shakti.” – Gurudev Shri Amritji \nTo grasp the revolutionary messages and guidance you do not need to know anything about yoga. You only need an openness to absorb the teachings and surrender to heartfelt urgings from your true self\, the divinity within. Allow yourself to receive and feel the vibrations and essence of this work in your core.  During Gifts & Graces you will gain tools to end self-destructive habits and compulsive behavior patterns and learn how to find peace within yourself and others. \nGurudev Shri Amritji is the original carrier of the Kripalu Shaktipat Lineage to the West. This ancient lineage from which he came ignited the fire that began the initial renaissance of the Inner Dimension of Yoga in the 20th century. For more than 60 years\, Amritji has founded some of the largest yoga and health centers in North America. \nAfter Gifts and Graces\, come experience a mini energy session from one of our practitioners or vendors. Toe Reading\, Reiki\, Tarot Reading\, Polarity\, Coaching and more will be available. Gratuities are Suggested. \n**This is a complimentary in-person/FB Live event**\nPlease RSVP to attend in person to rsvp@swiha.edu\nPlease RSVP to FB Live here
URL:https://swiha.edu/event/september-gifts-graces-with-gurudev-shri-amritji/
ATTACH;FMTTYPE=image/jpeg:https://swiha.edu/wp-content/uploads/2023/06/Amrit-Desai-Gifts-and-Graces.jpg
END:VEVENT
END:VCALENDAR