BEGIN:VCALENDAR
VERSION:2.0
PRODID:-//Southwest Institute of Healing Arts | Accredited Healing Arts Programs - ECPv5.16.3.1//NONSGML v1.0//EN
CALSCALE:GREGORIAN
METHOD:PUBLISH
X-ORIGINAL-URL:https://swiha.edu
X-WR-CALDESC:Events for Southwest Institute of Healing Arts | Accredited Healing Arts Programs
REFRESH-INTERVAL;VALUE=DURATION:PT1H
X-Robots-Tag:noindex
X-PUBLISHED-TTL:PT1H
BEGIN:VTIMEZONE
TZID:America/Phoenix
BEGIN:STANDARD
TZOFFSETFROM:-0700
TZOFFSETTO:-0700
TZNAME:MST
DTSTART:20230101T000000
END:STANDARD
END:VTIMEZONE
BEGIN:VEVENT
DTSTART;TZID=America/Phoenix:20231103T180000
DTEND;TZID=America/Phoenix:20231103T190000
DTSTAMP:20260423T174447
CREATED:20230927T153706Z
LAST-MODIFIED:20230927T175344Z
UID:106531-1699034400-1699038000@swiha.edu
SUMMARY:Gifts & Graces: Creating Confidence Through Self-Connection
DESCRIPTION:Join us for an inspiring and transformative talk with Brian and Jasper\, two dedicated practitioners in the fields of holistic wellness\, embodiment\, and empowerment. Brian\, a seasoned breathwork practitioner and health coach\, brings a unique perspective rooted in Nature\, harnessing the wisdom of the natural world to foster self-connection and resilience. Jasper\, a fitness and nutrition coach\, is driven by the belief that true confidence is born from inner alignment and balance. \n“Creating Confidence Through Self-Connection\,” is a journey towards discovering your most empowered and confident self. Through a blend of practices such as movement\, mindful nutrition\, breathwork\, and meditation\, Brian and Jasper will guide you in integrating these transformative tools into your daily routine. By cultivating self-connection through these practices\, you will enhance your sense of confidence and pave the way to a more enriching and fulfilled life. Join us as we explore the path to self-assuredness and unlock the potential for a brighter\, more confident future. \nAfter Gifts and Graces\, come experience a mini energy session from one of our practitioners or vendors. Toe Reading\, Reiki\, Tarot Reading\, Polarity\, Coaching and more will be available. Gratuities are Suggested. \n**This is a complimentary in-person/FB Live event**\nPlease RSVP to attend in person to rsvp@swiha.edu\nPlease RSVP to FB Live: https://forms.gle/4qEGtjqkuWzvQtAs8  \nIF YOU ARE A GRADUATE AND GRADUATING PLEASE RSVP HERE
URL:https://swiha.edu/event/gifts-graces-creating-confidence-through-self-connection/
ATTACH;FMTTYPE=image/jpeg:https://swiha.edu/wp-content/uploads/2023/09/November-Gifts-Graces.jpg
END:VEVENT
END:VCALENDAR