BEGIN:VCALENDAR
VERSION:2.0
PRODID:-//Southwest Institute of Healing Arts | Accredited Healing Arts Programs - ECPv5.16.3.1//NONSGML v1.0//EN
CALSCALE:GREGORIAN
METHOD:PUBLISH
X-WR-CALNAME:Southwest Institute of Healing Arts | Accredited Healing Arts Programs
X-ORIGINAL-URL:https://swiha.edu
X-WR-CALDESC:Events for Southwest Institute of Healing Arts | Accredited Healing Arts Programs
REFRESH-INTERVAL;VALUE=DURATION:PT1H
X-Robots-Tag:noindex
X-PUBLISHED-TTL:PT1H
BEGIN:VTIMEZONE
TZID:America/Phoenix
BEGIN:STANDARD
TZOFFSETFROM:-0700
TZOFFSETTO:-0700
TZNAME:MST
DTSTART:20240101T000000
END:STANDARD
END:VTIMEZONE
BEGIN:VEVENT
DTSTART;TZID=America/Phoenix:20240202T180000
DTEND;TZID=America/Phoenix:20240202T190000
DTSTAMP:20260423T150741
CREATED:20240103T011050Z
LAST-MODIFIED:20240103T011124Z
UID:106842-1706896800-1706900400@swiha.edu
SUMMARY:February Gifts & Graces with Kerry Burki : Learn To Love Yourself
DESCRIPTION:Join SWIHA teacher\, author\, certified yogi\, intuitive mentor\, and magical living coach Kerry Burki\, for an evening of exploring simple yet powerful ways to shift the focus of your life to yourself in loving and caring ways. In this transformative session\, Kerry will guide you through practical exercises and insightful discussions that will help you uncover the true essence of self-love. When you prioritize loving yourself first\, you create a powerful ripple effect that spreads love\, positivity\, and compassion throughout the world\, ultimately uplifting the vibration of the entire planet. Don’t miss this incredible opportunity to embark on a journey of self-discovery and personal growth. Reserve your spot now and be part of this life-changing event. \nAfter Gifts and Graces\, come and experience a mini energy session from one of our practitioners or vendors. Toe Reading\, Reiki\, Tarot Reading\, Polarity\, Coaching and more will be available. Gratuities are suggested. \n**This is a complimentary in-person/FB Live event**\nRSVP to Attend in Person at rsvp@swiha.edu\nJoin us on Facebook Live the day of the event
URL:https://swiha.edu/event/february-gifts-graces-with-kerry-burki-learn-to-love-yourself/
LOCATION:Southwest Institute of Healing Arts\, 1538 E Southern Ave\, Tempe\, AZ\, 85282\, United States
ATTACH;FMTTYPE=image/png:https://swiha.edu/wp-content/uploads/2024/01/Gifts-Graces-Kerry-Burki.png
END:VEVENT
END:VCALENDAR