BEGIN:VCALENDAR
VERSION:2.0
PRODID:-//Southwest Institute of Healing Arts | Accredited Healing Arts Programs - ECPv5.16.3.1//NONSGML v1.0//EN
CALSCALE:GREGORIAN
METHOD:PUBLISH
X-WR-CALNAME:Southwest Institute of Healing Arts | Accredited Healing Arts Programs
X-ORIGINAL-URL:https://swiha.edu
X-WR-CALDESC:Events for Southwest Institute of Healing Arts | Accredited Healing Arts Programs
REFRESH-INTERVAL;VALUE=DURATION:PT1H
X-Robots-Tag:noindex
X-PUBLISHED-TTL:PT1H
BEGIN:VTIMEZONE
TZID:America/Phoenix
BEGIN:STANDARD
TZOFFSETFROM:-0700
TZOFFSETTO:-0700
TZNAME:MST
DTSTART:20240101T000000
END:STANDARD
END:VTIMEZONE
BEGIN:VEVENT
DTSTART;TZID=America/Phoenix:20240208T170000
DTEND;TZID=America/Phoenix:20240208T180000
DTSTAMP:20260423T133928
CREATED:20240129T213640Z
LAST-MODIFIED:20240129T213640Z
UID:107036-1707411600-1707415200@swiha.edu
SUMMARY:Integrative Healing Arts Practitioner & Mind Body Wellness Programs Webinar
DESCRIPTION:You are invited to join the Southwest Institute of Healing Arts’ webinar to learn more about the Integrative Healing Arts Practitioner Diploma program (on campus) and the Mind Body Wellness Practitioner Diploma Program (on campus). The Integrative Healing Arts Program (IHAP) provides proven wellness tools\, introduces mind-body-spirit balance to your life\, and prepares you to meet the needs of those you will ultimately serve. In addition to the core classes\, you will choose a coaching focus and a specialty focus. \nThe Mind Body Wellness Practitioner program is fully customizable to your unique interests and gifts. In addition to the required Mind-Body Wellness and Entrepreneurial core classes\, choose from three exciting focuses that best match your dream career! This Webinar will be full of information\, and a great opportunity to ask any questions you may have! \nPlease Click to Register to the Webinar: https://us06web.zoom.us/webinar/register/WN_qvEpR-59QKC7zeXDXCKDCw
URL:https://swiha.edu/event/integrative-healing-arts-practitioner-mind-body-wellness-programs-webinar/
ATTACH;FMTTYPE=image/jpeg:https://swiha.edu/wp-content/uploads/2024/01/download-1.jpg
END:VEVENT
END:VCALENDAR