BEGIN:VCALENDAR
VERSION:2.0
PRODID:-//Southwest Institute of Healing Arts | Accredited Healing Arts Programs - ECPv5.16.3.1//NONSGML v1.0//EN
CALSCALE:GREGORIAN
METHOD:PUBLISH
X-ORIGINAL-URL:https://swiha.edu
X-WR-CALDESC:Events for Southwest Institute of Healing Arts | Accredited Healing Arts Programs
REFRESH-INTERVAL;VALUE=DURATION:PT1H
X-Robots-Tag:noindex
X-PUBLISHED-TTL:PT1H
BEGIN:VTIMEZONE
TZID:America/Phoenix
BEGIN:STANDARD
TZOFFSETFROM:-0700
TZOFFSETTO:-0700
TZNAME:MST
DTSTART:20240101T000000
END:STANDARD
END:VTIMEZONE
BEGIN:VEVENT
DTSTART;TZID=America/Phoenix:20240905T120000
DTEND;TZID=America/Phoenix:20240905T130000
DTSTAMP:20260423T042804
CREATED:20240816T193913Z
LAST-MODIFIED:20240816T193913Z
UID:107459-1725537600-1725541200@swiha.edu
SUMMARY:Integrative Healing Arts Practitioner Online
DESCRIPTION:You are invited to join the Southwest Institute of Healing Arts’ webinar to learn more about the Online 780-hour Integrative Healing Arts Practitioner Diploma Program. \nREGISTER HERE  \nOur online Integrative Healing Arts Practitioner diploma is designed to help you discover your distinctive talents\, and give you the tools to create mind-body-spirit healing for yourself and your future clients. The core curriculum of this diploma offers courses in a suite of holistic modalities\, transpersonal psychology\, and business development. The specialties are: Advanced Professional Hypnotherapy\, Spiritual Coach & Healing Botanicals & Earth Ceremonies\, and Spiritual Coach & End of Life Doula. \nNext Start Date Online – October 7\, 2024 *Must be enrolled by September 27 \nWe hope you will join us! For questions or next steps please call 480-994-9244 or email rsvp@swiha.edu.
URL:https://swiha.edu/event/integrative-healing-arts-practitioner-online/
ATTACH;FMTTYPE=image/jpeg:https://swiha.edu/wp-content/uploads/2024/08/IHAP-Online.jpg
END:VEVENT
END:VCALENDAR