BEGIN:VCALENDAR
VERSION:2.0
PRODID:-//Southwest Institute of Healing Arts | Accredited Healing Arts Programs - ECPv5.16.3.1//NONSGML v1.0//EN
CALSCALE:GREGORIAN
METHOD:PUBLISH
X-WR-CALNAME:Southwest Institute of Healing Arts | Accredited Healing Arts Programs
X-ORIGINAL-URL:https://swiha.edu
X-WR-CALDESC:Events for Southwest Institute of Healing Arts | Accredited Healing Arts Programs
REFRESH-INTERVAL;VALUE=DURATION:PT1H
X-Robots-Tag:noindex
X-PUBLISHED-TTL:PT1H
BEGIN:VTIMEZONE
TZID:America/Phoenix
BEGIN:STANDARD
TZOFFSETFROM:-0700
TZOFFSETTO:-0700
TZNAME:MST
DTSTART:20240101T000000
END:STANDARD
END:VTIMEZONE
BEGIN:VEVENT
DTSTART;TZID=America/Phoenix:20240906T180000
DTEND;TZID=America/Phoenix:20240906T190000
DTSTAMP:20260423T042652
CREATED:20240724T172740Z
LAST-MODIFIED:20240724T172740Z
UID:107404-1725645600-1725649200@swiha.edu
SUMMARY:September Gifts & Graces: Rewrite Your Stress Pattern with Kamini Desai
DESCRIPTION:Join Kamini Desai as she delves into the common stress-inducing thought patterns that often plague our minds\, and discover how you can effectively manage them using the powerful practice of Yoga Nidra.\nDuring Gifts and Graces\, Kamini will guide you through a seated Yoga Nidra experience\, allowing you to tap into a deep state of relaxation and awareness. Don’t miss out on this opportunity to learn how to navigate through stressful thoughts and find inner peace. \nKamini Desai PhD is author of the book\, ‘Yoga Nidra: The Art of Transformational Sleep’\, the developer of the I AM Yoga Nidra app and leads Yoga Nidra\, Yoga Therapy and artful living trainings worldwide. She has been on guest faculty at the Southwest Institute of Healing Arts since 2010. \nAfter Gifts and Graces\, come experience a mini energy session from one of our practitioners or vendors. Toe Reading\, Reiki\, Tarot Reading\, Polarity\, Coaching and more will be available. Gratuities are Suggested. \n**This is a complimentary in-person/FB Live event**\nPlease RSVP at rsvp@swiha.edu
URL:https://swiha.edu/event/september-gifts-graces-rewrite-your-stress-pattern-with-kamini-desai/
LOCATION:Southwest Institute of Healing Arts\, 1538 E Southern Ave\, Tempe\, AZ\, 85282\, United States
ATTACH;FMTTYPE=image/jpeg:https://swiha.edu/wp-content/uploads/2024/07/Kamini-Rewrite-Stress-Pattern-FB.jpg
END:VEVENT
END:VCALENDAR