BEGIN:VCALENDAR
VERSION:2.0
PRODID:-//Southwest Institute of Healing Arts | Accredited Healing Arts Programs - ECPv5.16.3.1//NONSGML v1.0//EN
CALSCALE:GREGORIAN
METHOD:PUBLISH
X-ORIGINAL-URL:https://swiha.edu
X-WR-CALDESC:Events for Southwest Institute of Healing Arts | Accredited Healing Arts Programs
REFRESH-INTERVAL;VALUE=DURATION:PT1H
X-Robots-Tag:noindex
X-PUBLISHED-TTL:PT1H
BEGIN:VTIMEZONE
TZID:America/Phoenix
BEGIN:STANDARD
TZOFFSETFROM:-0700
TZOFFSETTO:-0700
TZNAME:MST
DTSTART:20240101T000000
END:STANDARD
END:VTIMEZONE
BEGIN:VEVENT
DTSTART;TZID=America/Phoenix:20240911T120000
DTEND;TZID=America/Phoenix:20240911T130000
DTSTAMP:20260423T042803
CREATED:20240821T000041Z
LAST-MODIFIED:20240821T003514Z
UID:107472-1726056000-1726059600@swiha.edu
SUMMARY:About our Herbalism Program Webinar
DESCRIPTION:Are you passionate about natural remedies and holistic healing? Join us for an exclusive webinar where we’ll be diving deep into our Western Herbalism programs! \nREGISTER HERE  \n**These are in person programs** \nWe offer a 745-hour career-oriented curriculum that gives you the opportunity to experience every aspect of plant medicine from seed to sale. This program will enhance your connection with nature and plants from an intuitive\, spiritual\, and energetic interpretation\, as well as from the phytochemical science-focused view. You’ll learn to make herbal medicinal remedies in class\, while studying the theories supporting the curative formulations. \nWe also offer a 100 hr Certificate of Excellence program! his certificate offers introductory herbalism training and a well-rounded overview of the essentials of herbalism. You will be introduced to the awe-inspiring world of plants and\, most importantly\, learn an appreciation for this kingdom and a sense of stewardship for our earth companions. \nPrograms start October 2\, 2024. \nEmail info@swiha.edu or call 480-994-9244 for next steps or questions!
URL:https://swiha.edu/event/about-our-herbalism-program-webinar/
LOCATION:Southwest Institute of Healing Arts\, 1538 E Southern Ave\, Tempe\, AZ\, 85282\, United States
ATTACH;FMTTYPE=image/jpeg:https://swiha.edu/wp-content/uploads/2024/08/Be-an-herbalist-webinar.jpg
END:VEVENT
END:VCALENDAR