BEGIN:VCALENDAR
VERSION:2.0
PRODID:-//Southwest Institute of Healing Arts | Accredited Healing Arts Programs - ECPv5.16.3.1//NONSGML v1.0//EN
CALSCALE:GREGORIAN
METHOD:PUBLISH
X-ORIGINAL-URL:https://swiha.edu
X-WR-CALDESC:Events for Southwest Institute of Healing Arts | Accredited Healing Arts Programs
REFRESH-INTERVAL;VALUE=DURATION:PT1H
X-Robots-Tag:noindex
X-PUBLISHED-TTL:PT1H
BEGIN:VTIMEZONE
TZID:America/Phoenix
BEGIN:STANDARD
TZOFFSETFROM:-0700
TZOFFSETTO:-0700
TZNAME:MST
DTSTART:20240101T000000
END:STANDARD
END:VTIMEZONE
BEGIN:VEVENT
DTSTART;TZID=America/Phoenix:20240919T120000
DTEND;TZID=America/Phoenix:20240919T130000
DTSTAMP:20260423T042803
CREATED:20240910T172659Z
LAST-MODIFIED:20240910T211124Z
UID:107511-1726747200-1726750800@swiha.edu
SUMMARY:Yoga Training 200 & 1000 Hr Webinar
DESCRIPTION:You are invited to join the Southwest Institute of Healing Arts’ Webinar to learn more about the 200hr Yoga Teacher Training and the 1000hr Yoga Therapy Program. Our Yoga programs embrace the principle of yoga as a unifying tool for creating health\, wellbeing and a deep spiritual connection. \nThursday\, September 19th at 12 PM (AZ Time)\n REGISTER HERE \nWithin the 200 hr program\, you will learn yoga postures\, and study philosophy\, styles and teaching techniques to gain a comprehensive understanding of this mind-body-spirit modality. In the final weeks of training\, you’ll design\, teach and receive coaching through actual studio classes. \nThe 1000 hr Yoga Therapy program builds upon our 200-hour Yoga Teacher Training program\, with the addition of classes that will support you in offering Yoga Therapy modalities to future clients as a Yoga Therapist. Some Yoga Therapy courses include Polarity\, Yoga Nidra\, Integral Breath Therapy\, Transformational Yoga Coaching\, Sound Healing\, and so much more!\nPrograms are starting soon!  \nJoin us to learn more and start or deepen your yoga journey! For more questions\, please email rsvp@swiha.edu or call 480-994-9244. 
URL:https://swiha.edu/event/yoga-training-200-1000-hr-webinar/
ATTACH;FMTTYPE=image/jpeg:https://swiha.edu/wp-content/uploads/2024/08/YTT-Webinar.jpg
END:VEVENT
END:VCALENDAR