BEGIN:VCALENDAR
VERSION:2.0
PRODID:-//Southwest Institute of Healing Arts | Accredited Healing Arts Programs - ECPv5.16.3.1//NONSGML v1.0//EN
CALSCALE:GREGORIAN
METHOD:PUBLISH
X-WR-CALNAME:Southwest Institute of Healing Arts | Accredited Healing Arts Programs
X-ORIGINAL-URL:https://swiha.edu
X-WR-CALDESC:Events for Southwest Institute of Healing Arts | Accredited Healing Arts Programs
REFRESH-INTERVAL;VALUE=DURATION:PT1H
X-Robots-Tag:noindex
X-PUBLISHED-TTL:PT1H
BEGIN:VTIMEZONE
TZID:America/Phoenix
BEGIN:STANDARD
TZOFFSETFROM:-0700
TZOFFSETTO:-0700
TZNAME:MST
DTSTART:20240101T000000
END:STANDARD
END:VTIMEZONE
BEGIN:VEVENT
DTSTART;TZID=America/Phoenix:20241030T120000
DTEND;TZID=America/Phoenix:20241030T130000
DTSTAMP:20260423T014559
CREATED:20241010T221344Z
LAST-MODIFIED:20241010T221344Z
UID:107661-1730289600-1730293200@swiha.edu
SUMMARY:Hypnotherapy Webinar
DESCRIPTION:You are invited to join Becca Briley and Hypnotherapy program director\, Linda Bennett to learn more about our Hypnotherapy programs. \nRegister here for our webinar \nSWIHA offers two Hypnotherapy programs: A 100-hour Certificate of Excellence and a Advanced Professional Hypnotherapy Certificate. The 100-hour certificate is designed for personal enrichment and self-empowerment\, as well as for gaining additional skills needed to fortify or enrich current Holistic professional practices. Our Advanced Professional Hypnotherapy Certificate is a vocational-focused program designed for those who have successfully completed the 100-hour Certificate in Hypnotherapy and wish to deepen their skills and launch a professional practice.  \nFor additional questions or next steps for enrollment\, please email info@swiha.edu  or call 480-994-9244
URL:https://swiha.edu/event/hypnotherapy-webinar/
ATTACH;FMTTYPE=image/jpeg:https://swiha.edu/wp-content/uploads/2024/10/Linda-bennett-Hypno-Webinar.jpg
END:VEVENT
END:VCALENDAR