BEGIN:VCALENDAR
VERSION:2.0
PRODID:-//Southwest Institute of Healing Arts | Accredited Healing Arts Programs - ECPv5.16.3.1//NONSGML v1.0//EN
CALSCALE:GREGORIAN
METHOD:PUBLISH
X-WR-CALNAME:Southwest Institute of Healing Arts | Accredited Healing Arts Programs
X-ORIGINAL-URL:https://swiha.edu
X-WR-CALDESC:Events for Southwest Institute of Healing Arts | Accredited Healing Arts Programs
REFRESH-INTERVAL;VALUE=DURATION:PT1H
X-Robots-Tag:noindex
X-PUBLISHED-TTL:PT1H
BEGIN:VTIMEZONE
TZID:America/Phoenix
BEGIN:STANDARD
TZOFFSETFROM:-0700
TZOFFSETTO:-0700
TZNAME:MST
DTSTART:20250101T000000
END:STANDARD
END:VTIMEZONE
BEGIN:VEVENT
DTSTART;TZID=America/Phoenix:20250103T180000
DTEND;TZID=America/Phoenix:20250103T190000
DTSTAMP:20260422T224835
CREATED:20241009T175407Z
LAST-MODIFIED:20241009T175407Z
UID:107649-1735927200-1735930800@swiha.edu
SUMMARY:January 2025 Gifts and Graces: Resolve to Evolve with James Patrick
DESCRIPTION:Join us for the first Gifts & Graces of 2025 with motivational presenter\, lifestyle coach and firewalker\, James Patrick.  As we enter into this new year\, learn the numerological significance of 2025 and the importance of finishing tasks\, releasing that which does not serve\, finding peace and completion with anything that has been holding you back in order to grow fully into your next life adventure.  Tap into that fire within and go beyond resolutions.  Learn to condition habits\, behaviors and thoughts for long term achievement and fulfillment.   \nAfter Gifts and Graces\, come experience a mini energy session from one of our practitioners or vendors. Toe Reading\, Reiki\, Tarot Reading\, Polarity\, Coaching and more will be available. Gratuities are Suggested. \n**This is a complimentary in-person/FB Live event**\nPlease RSVP to Gifts & Graces at info@swiha.edu
URL:https://swiha.edu/event/january-2025-gifts-and-graces-resolve-to-evolve-with-james-patrick/
LOCATION:Southwest Institute of Healing Arts\, 1538 E Southern Ave\, Tempe\, AZ\, 85282\, United States
ATTACH;FMTTYPE=image/jpeg:https://swiha.edu/wp-content/uploads/2024/10/GNG-2025-with-James-Patrick-FB.jpg
END:VEVENT
BEGIN:VEVENT
DTSTART;TZID=America/Phoenix:20250103T180000
DTEND;TZID=America/Phoenix:20250103T190000
DTSTAMP:20260422T224835
CREATED:20241106T000221Z
LAST-MODIFIED:20241106T000221Z
UID:107685-1735927200-1735930800@swiha.edu
SUMMARY:January 2025 Gifts and Graces: Resolve to Evolve
DESCRIPTION:Join us for the first Gifts & Graces of 2025 with motivational presenter\, lifestyle coach and firewalker\, James Patrick.  As we enter into this new year\, learn the numerological significance of 2025 and the importance of finishing tasks\, releasing that which does not serve\, finding peace and completion with anything that has been holding you back in order to grow fully into your next life adventure.  Tap into that fire within and go beyond resolutions.  Learn to condition habits\, behaviors and thoughts for long term achievement and fulfillment.   \nAfter Gifts and Graces\, come experience a mini energy session from one of our practitioners or vendors. Toe Reading\, Reiki\, Tarot Reading\, Polarity\, Coaching and more will be available. Gratuities are Suggested. \n**This is a complimentary in-person/FB Live event** \nPlease RSVP to Gifts & Graces at RSVP@swiha.edu
URL:https://swiha.edu/event/january-2025-gifts-and-graces-resolve-to-evolve/
ATTACH;FMTTYPE=image/jpeg:https://swiha.edu/wp-content/uploads/2024/11/January-2025-James-Web-Event.jpg
END:VEVENT
END:VCALENDAR