BEGIN:VCALENDAR
VERSION:2.0
PRODID:-//Southwest Institute of Healing Arts | Accredited Healing Arts Programs - ECPv5.16.3.1//NONSGML v1.0//EN
CALSCALE:GREGORIAN
METHOD:PUBLISH
X-WR-CALNAME:Southwest Institute of Healing Arts | Accredited Healing Arts Programs
X-ORIGINAL-URL:https://swiha.edu
X-WR-CALDESC:Events for Southwest Institute of Healing Arts | Accredited Healing Arts Programs
REFRESH-INTERVAL;VALUE=DURATION:PT1H
X-Robots-Tag:noindex
X-PUBLISHED-TTL:PT1H
BEGIN:VTIMEZONE
TZID:America/Phoenix
BEGIN:STANDARD
TZOFFSETFROM:-0700
TZOFFSETTO:-0700
TZNAME:MST
DTSTART:20250101T000000
END:STANDARD
END:VTIMEZONE
BEGIN:VEVENT
DTSTART;TZID=America/Phoenix:20250125T100000
DTEND;TZID=America/Phoenix:20250125T190000
DTSTAMP:20260422T224836
CREATED:20240219T232904Z
LAST-MODIFIED:20240410T180543Z
UID:107135-1737799200-1737831600@swiha.edu
SUMMARY:Firewalk and Conference
DESCRIPTION:Join us for our annual conference for personal and professional development. It’s an action packed\, goal focused day that culminates with your participation as a firewalker! \nCome for:\n* Personal Empowerment\n* Developing a Growth Mindset\n* Breaking Limiting Belief\n* Drumming Ceremony\n* Firewalking Ceremony\n* Nervous System Recaliberation with Breathwork & Somatic Repatterning\n* And so much more …. \nCourse Code EV 907\n$129 – Early Bird Pricing through September\n$149 – October – December\n$199 – January 2025 \nTo register by phone\, call 480-994-9244\nClick to register online HERE.
URL:https://swiha.edu/event/firewalk-and-conference-2/
LOCATION:Southwest Institute of Healing Arts\, 1538 E Southern Ave\, Tempe\, AZ\, 85282\, United States
ATTACH;FMTTYPE=image/jpeg:https://swiha.edu/wp-content/uploads/2024/02/Fired-Up.jpg
END:VEVENT
END:VCALENDAR