BEGIN:VCALENDAR
VERSION:2.0
PRODID:-//Southwest Institute of Healing Arts | Accredited Healing Arts Programs - ECPv5.16.3.1//NONSGML v1.0//EN
CALSCALE:GREGORIAN
METHOD:PUBLISH
X-WR-CALNAME:Southwest Institute of Healing Arts | Accredited Healing Arts Programs
X-ORIGINAL-URL:https://swiha.edu
X-WR-CALDESC:Events for Southwest Institute of Healing Arts | Accredited Healing Arts Programs
REFRESH-INTERVAL;VALUE=DURATION:PT1H
X-Robots-Tag:noindex
X-PUBLISHED-TTL:PT1H
BEGIN:VTIMEZONE
TZID:America/Phoenix
BEGIN:STANDARD
TZOFFSETFROM:-0700
TZOFFSETTO:-0700
TZNAME:MST
DTSTART:20230101T000000
END:STANDARD
END:VTIMEZONE
BEGIN:VEVENT
DTSTART;TZID=America/Phoenix:20230609T180000
DTEND;TZID=America/Phoenix:20230609T190000
DTSTAMP:20260424T064105
CREATED:20220606T161417Z
LAST-MODIFIED:20230512T145354Z
UID:105621-1686333600-1686337200@swiha.edu
SUMMARY:SWIHA ha ha Laughter Club
DESCRIPTION:Join us for some laughter! \nLaughter will balance and relax you\, reverse unhealthy reactions to stress\, and help you enjoy life more!\nThey say laughter is the best medicine–come find out at SWIHA!\nThis event is complimentary and open to the public! \nNo need to RSVP just show up. Call for questions 480-994-9244\nOur address 1538 E Southern Ave. Tempe\, AZ 85282
URL:https://swiha.edu/event/swiha-ha-ha-laughter-club/2023-06-09/
LOCATION:Southwest Institute of Healing Arts\, 1538 E Southern Ave\, Tempe\, AZ\, 85282\, United States
ATTACH;FMTTYPE=image/jpeg:https://swiha.edu/wp-content/uploads/2022/06/Swiha-ha-ha.jpg
END:VEVENT
BEGIN:VEVENT
DTSTART;TZID=America/Phoenix:20230623T180000
DTEND;TZID=America/Phoenix:20230623T190000
DTSTAMP:20260424T064105
CREATED:20220606T161417Z
LAST-MODIFIED:20220606T161417Z
UID:106273-1687543200-1687546800@swiha.edu
SUMMARY:SWIHA ha ha Laughter Club
DESCRIPTION:Join us for some laughter! \nLaughter will balance and relax you\, reverse unhealthy reactions to stress\, and help you enjoy life more!\nThey say laughter is the best medicine–come find out at SWIHA!\nThis event is complimentary and open to the public! \nNo need to RSVP just show up. Call for questions 480-994-9244\nOur address 1538 E Southern Ave. Tempe\, AZ 85282
URL:https://swiha.edu/event/swiha-ha-ha-laughter-club/2023-06-23/
LOCATION:Southwest Institute of Healing Arts\, 1538 E Southern Ave\, Tempe\, AZ\, 85282\, United States
ATTACH;FMTTYPE=image/jpeg:https://swiha.edu/wp-content/uploads/2022/06/Swiha-ha-ha.jpg
END:VEVENT
BEGIN:VEVENT
DTSTART;TZID=America/Phoenix:20230707T180000
DTEND;TZID=America/Phoenix:20230707T190000
DTSTAMP:20260424T064105
CREATED:20230516T195520Z
LAST-MODIFIED:20230606T195037Z
UID:106290-1688752800-1688756400@swiha.edu
SUMMARY:July Gifts and Graces: Finding Your Inspiration and Living Your Bliss
DESCRIPTION:“Follow your bliss and the Universe will open doors for you where there were only walls” – Joseph Campbell. Join us for an inspirational and compelling evening of conversation and resources to help you identify your bliss and why it’s important. We’ll create sacred space to explore the uncertainty of life and the willingness to make our lives even more fulfilling and joy filled. \nLinda Bennett is the Hypnotherapy Program Director for both our On Campus and Online Hypnotherapy Programs at Southwest Institute of Healing Arts. Linda is a Certified Clinical Hypnotherapist\, Board Certified Hypnotherapy Instructor and Certifying Examiner\, and a Certified Life Coach. She has more than 25 years of experience in the fields of Higher Education Development and Corporate Training. Linda was honored to receive the 2022 Lifetime Achievement award from National Association of Transpersonal Hypnotherapists. \nAfter Gifts and Graces\, come experience a mini energy session from one of our practitioners or vendors. Toe Reading\, Reiki\, Tarot Reading\, Polarity\, Coaching and more will be available. Gratuities are Suggested. \n**This is a complimentary in-person/FB Live event**\nPlease RSVP to attend in person to rsvp@swiha.edu\nPlease RSVP to FB Live here: https://forms.gle/55V4YavJpiFp8gbz8
URL:https://swiha.edu/event/july-gifts-and-graces-finding-your-inspiration-and-living-your-bliss/
LOCATION:Southwest Institute of Healing Arts\, 1538 E Southern Ave\, Tempe\, AZ\, 85282\, United States
ATTACH;FMTTYPE=image/jpeg:https://swiha.edu/wp-content/uploads/2023/05/GNG-Linda-Bennett-7-2023.jpg
END:VEVENT
END:VCALENDAR