BEGIN:VCALENDAR
VERSION:2.0
PRODID:-//Southwest Institute of Healing Arts | Accredited Healing Arts Programs - ECPv5.16.3.1//NONSGML v1.0//EN
CALSCALE:GREGORIAN
METHOD:PUBLISH
X-WR-CALNAME:Southwest Institute of Healing Arts | Accredited Healing Arts Programs
X-ORIGINAL-URL:https://swiha.edu
X-WR-CALDESC:Events for Southwest Institute of Healing Arts | Accredited Healing Arts Programs
REFRESH-INTERVAL;VALUE=DURATION:PT1H
X-Robots-Tag:noindex
X-PUBLISHED-TTL:PT1H
BEGIN:VTIMEZONE
TZID:America/Phoenix
BEGIN:STANDARD
TZOFFSETFROM:-0700
TZOFFSETTO:-0700
TZNAME:MST
DTSTART:20260101T000000
END:STANDARD
END:VTIMEZONE
BEGIN:VEVENT
DTSTART;TZID=America/Phoenix:20260509T090000
DTEND;TZID=America/Phoenix:20260509T170000
DTSTAMP:20260423T031657
CREATED:20260115T174216Z
LAST-MODIFIED:20260115T174216Z
UID:108324-1778317200-1778346000@swiha.edu
SUMMARY:Explore Massage Therapy as a Career – Complimentary Event
DESCRIPTION:If you are searching for a new career and have questions\, join us for a day of exploration. \nSaturday\, May 9th\, 2026 from 9am-5pm \nHave you ever imagined what it would be like to be a therapist in the massage industry? Come and explore the possibilities! This experience is designed to give you a firsthand look at the healing benefits of Massage Therapy\, the power of touch\, and the importance of professional\, safe draping procedures. We will also have the opportunity to explore the abundant employment opportunities available for bodywork practitioners. \nEmail us at info@swiha.edu  for details . The class will be limited to 14 people.
URL:https://swiha.edu/event/explore-massage-therapy-as-a-career-complimentary-event-8/
LOCATION:AZ
ATTACH;FMTTYPE=image/jpeg:https://swiha.edu/wp-content/uploads/2025/10/Massage-EXploration-Banner.jpg
END:VEVENT
BEGIN:VEVENT
DTSTART;TZID=America/Phoenix:20260605T180000
DTEND;TZID=America/Phoenix:20260605T190000
DTSTAMP:20260423T031657
CREATED:20260417T001236Z
LAST-MODIFIED:20260417T001551Z
UID:108408-1780682400-1780686000@swiha.edu
SUMMARY:June Gifts and Graces: Navigating Change: The Hidden Steps to Resolution
DESCRIPTION:It’s often said that when one door closes\, another opens. Southwest Institute of Healing Arts\n(SWIHA) embodies this truth\, having navigated many transitions over the past 34 years. Now\, we stand on the brink of another significant change: our lease at 1538 E. Southern has expired\, and we will be relocating to a new facility just across the way in Tempe City Towers. This move will allow us to embrace the beautiful green belt and unite our three building around pond area (SOY and SWINA)\, creating more of a campus effect! \nAs this will be the last monthly event held at our current building\, we invite you to join us in a spirit of gratitude and appreciation for the cherished memories created within these walls. \nJennifer Sanders\, RPE\, RPP—Director of Polarity and Integrated Cranial Sacral Unwinding Programs at SWIHA—has chosen the perfect topic for this gathering: “Navigating Change: The Hidden Steps to Resolution.” Jennifer will guide you through the gentle\, clear sequence that every meaningful shift follows—be it personal\, collective\, or global. In a world that moves quickly and often brings stress\, understanding where you are in your journey is truly magical. \nThis event promises to be more than just a listening experience; it’s an interactive journey of\nself-discovery. You’ll actively participate\, map your own process\, and learn to identify the stages\nthat lead to resolution\, fresh clarity\, and real\, lasting change. \nAdditionally\, many of our graduates will be joining us as vendors or practitioners\, offering complimentary services throughout the evening. We will also host a “garage sale” style event in the bookstore\, liquidating items that won’t be moving to our new location next month. This is a wonderful\nopportunity to celebrate and reflect together as we transition into a new chapter. \nJoin us for an evening filled with insight\, community\, and heartfelt appreciation. We look forward to celebrating with you! \nClick on Link to register: https://calendly.com/swiha-master/june-gifts-and-graces-navigating-change-the-hidden-steps-to-resolution \n1538 E. Southern Ave. Tempe AZ 85282\n480-994-9244 | Info@swiha.edu
URL:https://swiha.edu/event/june-gifts-and-graces-navigating-change-the-hidden-steps-to-resolution/
LOCATION:AZ
ATTACH;FMTTYPE=image/jpeg:https://swiha.edu/wp-content/uploads/2026/04/Gifts-and-Graces-June-Facebook-Banner.jpg
END:VEVENT
END:VCALENDAR