BEGIN:VCALENDAR
VERSION:2.0
PRODID:-//Southwest Institute of Healing Arts | Accredited Healing Arts Programs - ECPv5.16.3.1//NONSGML v1.0//EN
CALSCALE:GREGORIAN
METHOD:PUBLISH
X-WR-CALNAME:Southwest Institute of Healing Arts | Accredited Healing Arts Programs
X-ORIGINAL-URL:https://swiha.edu
X-WR-CALDESC:Events for Southwest Institute of Healing Arts | Accredited Healing Arts Programs
REFRESH-INTERVAL;VALUE=DURATION:PT1H
X-Robots-Tag:noindex
X-PUBLISHED-TTL:PT1H
BEGIN:VTIMEZONE
TZID:America/Phoenix
BEGIN:STANDARD
TZOFFSETFROM:-0700
TZOFFSETTO:-0700
TZNAME:MST
DTSTART:20250101T000000
END:STANDARD
END:VTIMEZONE
BEGIN:VEVENT
DTSTART;TZID=America/Phoenix:20250220T100000
DTEND;TZID=America/Phoenix:20250220T113000
DTSTAMP:20260423T045439
CREATED:20250113T185128Z
LAST-MODIFIED:20250114T181118Z
UID:107740-1740045600-1740051000@swiha.edu
SUMMARY:Yoga Open House FastTrack – 2/20/25
DESCRIPTION:Immerse yourself in our Complimentary Yoga Teacher Training Open House! Meet your dedicated yoga instructors\, Victoria Cureton and Stephanie Chavez\, and take advantage of the opportunity to ask any burning questions you may have about the program. This open house is the perfect way to gain valuable insight into what the future holds for you within this transformative program.  \nVictoria Cureton is a longtime yogi\, and has been teaching yoga for over 10 years\, including 4 YTT programs for a national yoga organization. She is an E-RYT 500 Yoga Alliance Registered instructor\, with certifications in ten different styles of yoga\, as well as I AM Yoga Nidra™\, I AM Yoga Body Psychology™\, and I AM Meditation in Motion™. Victoria was part of the first graduating cohort of the SWIHA 1000 Hr Integrative Yoga Therapy Diploma program! \nStephanie Chavez is a RYT-500 Hr yogi\, with specializations in I AM Yoga Nidra™\, Yoga Body Psychology™\, Yin & Restorative Yoga. She teaches studio classes at Spirit of Yoga and actively serves as a YTT Practicum Coach! \nEmail us to RSVP at info@swiha.edu . Feel free to call 480-994-9244 if you have any inquiries or need more information. \n200hr YTT (FastTrack M-Th Mornings) Start Date:\nMarch 3\, 2025
URL:https://swiha.edu/event/yoga-open-house-fasttrack-2-4-25-2/
ATTACH;FMTTYPE=image/jpeg:https://swiha.edu/wp-content/uploads/2025/01/Yoga-Teacher-Steph-and-Victoria.jpg
END:VEVENT
BEGIN:VEVENT
DTSTART;TZID=America/Phoenix:20250228T180000
DTEND;TZID=America/Phoenix:20250228T190000
DTSTAMP:20260423T045439
CREATED:20250206T221420Z
LAST-MODIFIED:20250206T221420Z
UID:107801-1740765600-1740769200@swiha.edu
SUMMARY:SWIHA HA HA Laughter Club
DESCRIPTION:Join us for some laughter! \nLaughter will balance and relax you\, reverse unhealthy reactions to stress\, and help you enjoy life more! They say laughter is the best medicine–come find out at SWIHA! This event is complimentary and open to the public! \nNo need to RSVP just show up. Call for questions 480-994-9244   \nHeld at: 1538 E. Southern Ave. Tempe\, AZ 85282
URL:https://swiha.edu/event/swiha-ha-ha-laughter-club-11/
LOCATION:Southwest Institute of Healing Arts\, 1538 E Southern Ave\, Tempe\, AZ\, 85282\, United States
ATTACH;FMTTYPE=image/jpeg:https://swiha.edu/wp-content/uploads/2024/05/SWIHA-Laughter-Club.jpg
END:VEVENT
BEGIN:VEVENT
DTSTART;TZID=America/Phoenix:20250307T180000
DTEND;TZID=America/Phoenix:20250307T190000
DTSTAMP:20260423T045439
CREATED:20250206T170605Z
LAST-MODIFIED:20250206T170605Z
UID:107788-1741370400-1741374000@swiha.edu
SUMMARY:March Gifts and Graces: Finding Peace in Times of Change
DESCRIPTION:Join Gary Strauss\, MS\, BCPP\, RPE and Jennifer Sanders\, RPE\, RPP for an inner exploration of the self to discover the resources available to each of us to create peace\, harmony\, and connection. As the world continues to change\, we are each tasked with developing new ways of relating and adapting to our environment. Together we will explore techniques to quiet the mind\, liberate the heart\, and reconnect to our own innate intelligence. As Directors of SWIHA’s Integrative Cranial Sacral Unwinding and Polarity Therapy\, Gary and Jennifer have made it their life’s work to empower individuals to overcome challenges of all kinds and to reorient themselves to the potency of their own life energy and purpose. These teachings create access to our own inner knowing and wellspring of peace\, harmony\, and stability.  \nAfter Gifts and Graces\, come experience a mini energy session from one of our practitioners or vendors. Toe Reading\, Reiki\, Tarot Reading\, Polarity\, Coaching and more will be available. Gratuities are Suggested. \n**This is a complimentary in-person/FB Live event**\nClick to Register \nFor questions email us at info@swiha.edu
URL:https://swiha.edu/event/march-gifts-and-graces-finding-peace-in-times-of-change/
ATTACH;FMTTYPE=image/jpeg:https://swiha.edu/wp-content/uploads/2025/02/Finding-peace-FB-Banner-small.jpg
END:VEVENT
BEGIN:VEVENT
DTSTART;TZID=America/Phoenix:20250313T180000
DTEND;TZID=America/Phoenix:20250313T190000
DTSTAMP:20260423T045439
CREATED:20250129T010624Z
LAST-MODIFIED:20250212T000159Z
UID:107774-1741888800-1741892400@swiha.edu
SUMMARY:Cranial Unwinding and Polarity Open House 3-13-25
DESCRIPTION:Join Us for SWIHA’s Polarity & Cranial Unwinding Open House! \nAre you ready to explore holistic energy healing techniques that restore balance and promote well-being? Don’t miss this opportunity to learn more about SWIHA’s transformative Polarity and Cranial Unwinding programs! This is also a great opportunity to meet our instructors\, explore our campus\, and start the journey of transforming your passion for helping others into a career! \nWhere: Southwest Institute of Healing Arts (SWIHA)\, Tempe\, AZ\nRSVP: info@swiha.edu  \nExplore Polarity: SWIHA is proud and honored to be the only college in Arizona offering full Polarity Practitioner training programs approved by the American Polarity Therapy Association (APTA). In this program\, students experience the exciting new paradigm of energy healing as they study the human energy system and see how it influences health and disease. Graduates of this program are eligible to apply for national certification through the APTA.\nExplore Cranial Unwinding: This gentle\, hands-on modality works with the body’s natural rhythms to release tension and restore balance—a perfect complement to other healing practices. At the center of this kind of energy work is the motivation to restore balance in the energy field within the neck\, spine\, and pelvis. By moving the energy\, you can remove blockages and restore flow. \nImagining something bigger? Expand your education with our Massage Therapy program! \nPolarity makes a perfect complement to Massage Therapy. Quite simply: Polarity + Massage is the antidote to modern stress and dysregulated living. Financial Aid is available for our 750 hr Massage Therapy program for those who qualify.
URL:https://swiha.edu/event/cranial-unwinding-and-polarity-open-house-3-13-25/
LOCATION:Southwest Institute of Healing Arts\, 1538 E Southern Ave\, Tempe\, AZ\, 85282\, United States
ATTACH;FMTTYPE=image/jpeg:https://swiha.edu/wp-content/uploads/2025/01/Polarity-Cranial-Open-House-Banner.jpg
END:VEVENT
BEGIN:VEVENT
DTSTART;TZID=America/Phoenix:20250314T180000
DTEND;TZID=America/Phoenix:20250314T190000
DTSTAMP:20260423T045439
CREATED:20250307T174948Z
LAST-MODIFIED:20250307T175041Z
UID:107845-1741975200-1741978800@swiha.edu
SUMMARY:SWIHA HA HA Laughter Club
DESCRIPTION:Join us for some laughter! \nLaughter will balance and relax you\, reverse unhealthy reactions to stress\, and help you enjoy life more! They say laughter is the best medicine–come find out at SWIHA! This event is complimentary and open to the public! \nNo need to RSVP just show up. Call for questions 480-994-9244   \nOur address: 1538 E Southern Ave. Tempe\, AZ 85282
URL:https://swiha.edu/event/swiha-ha-ha-laughter-club-12/
LOCATION:Southwest Institute of Healing Arts\, 1538 E Southern Ave\, Tempe\, AZ\, 85282\, United States
ATTACH;FMTTYPE=image/jpeg:https://swiha.edu/wp-content/uploads/2024/05/SWIHA-Laughter-Club.jpg
END:VEVENT
BEGIN:VEVENT
DTSTART;TZID=America/Phoenix:20250328T180000
DTEND;TZID=America/Phoenix:20250328T190000
DTSTAMP:20260423T045439
CREATED:20250307T175213Z
LAST-MODIFIED:20250312T181014Z
UID:107847-1743184800-1743188400@swiha.edu
SUMMARY:SWIHA HA HA Laughter Club
DESCRIPTION:Join us for some laughter! \nLaughter will balance and relax you\, reverse unhealthy reactions to stress\, and help you enjoy life more! They say laughter is the best medicine–come find out at SWIHA! This event is complimentary and open to the public! \nNo need to RSVP just show up. Call for questions 480-994-9244   \nOur address: 1538 E Southern Ave. Tempe\, AZ 85282
URL:https://swiha.edu/event/swiha-ha-ha-laughter-club-13/
ATTACH;FMTTYPE=image/jpeg:https://swiha.edu/wp-content/uploads/2024/05/SWIHA-Laughter-Club.jpg
END:VEVENT
BEGIN:VEVENT
DTSTART;TZID=America/Phoenix:20250329T100000
DTEND;TZID=America/Phoenix:20250329T100000
DTSTAMP:20260423T045439
CREATED:20250129T011547Z
LAST-MODIFIED:20250129T205942Z
UID:107778-1743242400-1743242400@swiha.edu
SUMMARY:Cranial Unwinding and Polarity Open House 3-29-25
DESCRIPTION:Join Us for SWIHA’s Polarity & Cranial Unwinding Open House! \nAre you ready to explore holistic energy healing techniques that restore balance and promote well-being? Don’t miss this opportunity to learn more about SWIHA’s transformative Polarity and Cranial Unwinding programs! This is also a great opportunity to meet our instructors\, explore our campus\, and start the journey of transforming your passion for helping others into a career! \nWhere: Southwest Institute of Healing Arts (SWIHA)\, Tempe\, AZ\nRSVP: info@swiha.edu  \nExplore Polarity: SWIHA is proud and honored to be the only college in Arizona offering full Polarity Practitioner training programs approved by the American Polarity Therapy Association (APTA). In this program\, students experience the exciting new paradigm of energy healing as they study the human energy system and see how it influences health and disease. Graduates of this program are eligible to apply for national certification through the APTA.\nExplore Cranial Unwinding: This gentle\, hands-on modality works with the body’s natural rhythms to release tension and restore balance—a perfect complement to other healing practices. At the center of this kind of energy work is the motivation to restore balance in the energy field within the neck\, spine\, and pelvis. By moving the energy\, you can remove blockages and restore flow. \nImagining something bigger? Expand your education with our Massage Therapy program! \nPolarity makes a perfect complement to Massage Therapy. Quite simply: Polarity + Massage is the antidote to modern stress and dysregulated living. Financial Aid is available for our 750 hr Massage Therapy program for those who qualify.
URL:https://swiha.edu/event/cranial-unwinding-and-polarity-open-house-3-29-25/
LOCATION:Southwest Institute of Healing Arts\, 1538 E Southern Ave\, Tempe\, AZ\, 85282\, United States
ATTACH;FMTTYPE=image/jpeg:https://swiha.edu/wp-content/uploads/2025/01/Polarity-Cranial-Open-House-Banner.jpg
END:VEVENT
BEGIN:VEVENT
DTSTART;TZID=America/Phoenix:20250404T180000
DTEND;TZID=America/Phoenix:20250404T190000
DTSTAMP:20260423T045439
CREATED:20250306T230422Z
LAST-MODIFIED:20250306T230933Z
UID:107838-1743789600-1743793200@swiha.edu
SUMMARY:De-mystifying Reiki - Bringing healing into your life with Scott Taylor & KC Miller
DESCRIPTION:In the past Reiki might have been considered “Woo-woo” or “Out There!” However\, now\, many studies have been done on its efficacy and for many years now\, Reiki is not only present\, it’s rapidly gaining notoriety in hospitals\, hospice care\, high-end spas and a host of other settings. \nJoin Shiva Scott & KC as they:  \n* Trace the history of Reiki\, with new details and storylines that have surfaced. \n* Explore the power of “mindful energy healing\,” especially when combined with clear focused “Intention!”\n* Demonstrate the mechanics of “How to Give A Miraculous Remote Reiki Session!”\n * Offer Reiki blessings alongside many additional Reiki Masters from the community \nAfter Gifts and Graces\, come experience a mini energy session from one of our practitioners or vendors. Toe Reading\, Reiki\, Tarot Reading\, Polarity\, Coaching and more will be available. Gratuities are suggested. \n **This is a complimentary event**\nClick to register to attend in-person \nAttend via Facebook the day of the event  \nFor questions email us at info@swiha.edu
URL:https://swiha.edu/event/de-mystifying-reiki-bringing-healing-into-your-life-with-scott-taylor-kc-miller/
LOCATION:Southwest Institute of Healing Arts\, 1538 E Southern Ave\, Tempe\, AZ\, 85282\, United States
ATTACH;FMTTYPE=image/jpeg:https://swiha.edu/wp-content/uploads/2025/03/De-Mystifying-Reiki-Event-Banner.jpg
END:VEVENT
BEGIN:VEVENT
DTSTART;TZID=America/Phoenix:20250418T180000
DTEND;TZID=America/Phoenix:20250418T190000
DTSTAMP:20260423T045439
CREATED:20250312T200945Z
LAST-MODIFIED:20250312T200945Z
UID:107855-1744999200-1745002800@swiha.edu
SUMMARY:Forgiveness Ceremony: Finding Calm in Times of Chaos
DESCRIPTION:In challenging times\, forgiveness becomes a powerful tool for inner peace. No one is perfect—mistakes are part of our growth. Finding Calm in the Chaos means releasing the toxicity of anger and negativity. It does not mean condoning hurtful actions but rather allowing ourselves to let go. By accepting what we cannot control\, we shift our perspective\, navigate life’s uncertainties with grace\, and free ourselves from the burden of trying to rewrite the past. Finding calm in the chaos means embracing peace in everyday life. \nForgiveness is a gift—the most profound form of love. In return\, we receive untold peace and happiness. The Greek translation of forgiveness means to “let go.” It is the ultimate act of kindness. In the hustle of daily life\, our inner peace often feels lost beneath obligations\, responsibilities\, distractions\, and anxieties. \nThrough the practice of forgiveness\, we cultivate a sanctuary of calm and steady presence. True inner peace is not an elusive secret—it is available to all of us. It begins with the courage to take the first step: letting go of a bruised ego\, reclaiming your power\, and easing suffering. No one can make you feel unworthy—except you. Forgiveness is for you. It is not about excusing those who have hurt you\, is about setting yourself free. We will offer Sound Healing and Guided Visualization. \nAbout Will Zecco: Director of Yoga and Success Coach\, has served SWIHA for nearly 19 years as a teacher\, mentor\, and business coach for both on-campus and online students. With over 40 years of entrepreneurial experience\, he is also a published author. His greatest passion is serving others with an open heart. \n**This is a complimentary event**\nClick to register to attend in-person \nFor questions email us at info@swiha.edu
URL:https://swiha.edu/event/forgiveness-ceremony-finding-calm-in-times-of-chaos/
ATTACH;FMTTYPE=image/jpeg:https://swiha.edu/wp-content/uploads/2024/01/download-2.jpg
END:VEVENT
BEGIN:VEVENT
DTSTART;TZID=America/Phoenix:20250422T180000
DTEND;TZID=America/Phoenix:20250422T190000
DTSTAMP:20260423T045439
CREATED:20250307T180633Z
LAST-MODIFIED:20250307T180633Z
UID:107849-1745344800-1745348400@swiha.edu
SUMMARY:Massage Open House
DESCRIPTION:Are you interested in pursuing a career in Massage Therapy?\nJoin our massage open house\, meet our experienced instructors\, and discover the endless opportunities that await you in the world of massage therapy. During the open house\, there will be an overview of the programs we offer\, the curriculum\, the differences between our Therapeutic Track and Ayurvedic Track\, and more! \nSouthwest Institute of Healing Arts built its foundation as a training center for massage therapists three decades ago. Today\, we offer a wide variety of courses and degrees in the healing arts\, and we continue to provide high-quality\, affordable massage therapy training for students entering the field as well as for professionals continuing their education. Complimentary Event! \nFinancial Aid is available to those who qualify.\nPlease RSVP at info@swiha.edu
URL:https://swiha.edu/event/massage-open-house-4/
LOCATION:Southwest Institute of Healing Arts\, 1538 E Southern Ave\, Tempe\, AZ\, 85282\, United States
ATTACH;FMTTYPE=image/jpeg:https://swiha.edu/wp-content/uploads/2024/06/Massage-banner.jpg
END:VEVENT
END:VCALENDAR