BEGIN:VCALENDAR
VERSION:2.0
PRODID:-//Southwest Institute of Healing Arts | Accredited Healing Arts Programs - ECPv5.16.3.1//NONSGML v1.0//EN
CALSCALE:GREGORIAN
METHOD:PUBLISH
X-WR-CALNAME:Southwest Institute of Healing Arts | Accredited Healing Arts Programs
X-ORIGINAL-URL:https://swiha.edu
X-WR-CALDESC:Events for Southwest Institute of Healing Arts | Accredited Healing Arts Programs
REFRESH-INTERVAL;VALUE=DURATION:PT1H
X-Robots-Tag:noindex
X-PUBLISHED-TTL:PT1H
BEGIN:VTIMEZONE
TZID:America/Phoenix
BEGIN:STANDARD
TZOFFSETFROM:-0700
TZOFFSETTO:-0700
TZNAME:MST
DTSTART:20250101T000000
END:STANDARD
END:VTIMEZONE
BEGIN:VEVENT
DTSTART;TZID=America/Phoenix:20250905T180000
DTEND;TZID=America/Phoenix:20250905T190000
DTSTAMP:20260423T112432
CREATED:20250711T174041Z
LAST-MODIFIED:20250711T174041Z
UID:108088-1757095200-1757098800@swiha.edu
SUMMARY:The Art of Inner Stability: Staying Grounded Amidst Outer Chaos
DESCRIPTION:SWIHA September Gifts & Graces with Kamini Desai\nThe Art of Inner Stability: Staying Grounded Amidst Outer Chaos\nFriday\, September 5th – 6pm-7pm \nHave you ever felt overwhelmed by the energies\, emotions\, and personalities around you? In today’s fast-paced world\, we are constantly absorbing external influences that can leave us feeling drained\, anxious\, or out of balance. What if you could cultivate an inner steadiness that allows you to remain centered no matter what’s happening around you? \nJoin Kamini Desai for an insightful evening at SWIHA’s Gifts & Graces\, where we will explore how external energies impact our thoughts and emotions—and\, more importantly\, how to navigate them with awareness and resilience. Through discussion and practical tools\, Kamini will share ways to maintain inner equilibrium\, stay grounded in your own energy\, and respond to life’s challenges with clarity and ease. As always\, the evening will conclude with a guided Yoga Nidra experience\, allowing you to integrate the insights of the night and return to a deep state of inner peace. \nAfter Gifts and Graces\, come experience a mini energy session from one of our practitioners or vendors. Toe Reading\, Reiki\, Tarot Reading\, Polarity\, Coaching and more will be available. Gratuities are Suggested. \nREGISTER HERE
URL:https://swiha.edu/event/the-art-of-inner-stability-staying-grounded-amidst-outer-chaos/
LOCATION:AZ
ATTACH;FMTTYPE=image/jpeg:https://swiha.edu/wp-content/uploads/2025/07/Kamini-Desai-gifts-graces2.jpg
END:VEVENT
BEGIN:VEVENT
DTSTART;TZID=America/Phoenix:20250906T090000
DTEND;TZID=America/Phoenix:20250906T170000
DTSTAMP:20260423T112432
CREATED:20241206T000448Z
LAST-MODIFIED:20250610T001403Z
UID:107707-1757149200-1757178000@swiha.edu
SUMMARY:Explore Massage Therapy as a Career – Complimentary Event
DESCRIPTION:If you are searching for a new career and have questions\, join us for a day of exploration.\nHave you ever imagined what it would be like to be a therapist in the massage industry? Come and explore the possibilities! This experience is designed to give you a firsthand look at the healing benefits of Massage Therapy\, the power of touch\, and the importance of professional\, safe draping procedures. We will also have the opportunity to explore the abundant employment opportunities available for bodywork practitioners. \nEmail us at info@swiha.edu for details\nThe class will be limited to 14 people.
URL:https://swiha.edu/event/explore-massage-therapy-as-a-career-complimentary-event-6/
LOCATION:Southwest Institute of Healing Arts\, 1538 E Southern Ave\, Tempe\, AZ\, 85282\, United States
ATTACH;FMTTYPE=image/jpeg:https://swiha.edu/wp-content/uploads/2024/12/Massage-EXploration-Banner.jpg
END:VEVENT
BEGIN:VEVENT
DTSTART;TZID=America/Phoenix:20250912T180000
DTEND;TZID=America/Phoenix:20250912T190000
DTSTAMP:20260423T112432
CREATED:20250711T174826Z
LAST-MODIFIED:20250711T175145Z
UID:108095-1757700000-1757703600@swiha.edu
SUMMARY:SWIHA HA HA Laughter Club
DESCRIPTION:Join us for some laughter! \nLaughter will balance and relax you\, reverse unhealthy reactions to stress\, and help you enjoy life more! They say laughter is the best medicine–come find out at SWIHA! This event is complimentary and open to the public! \nNo need to RSVP just show up. Call for questions 480-994-9244
URL:https://swiha.edu/event/swiha-ha-ha-laughter-club-14/2025-09-12/
LOCATION:AZ
ATTACH;FMTTYPE=image/jpeg:https://swiha.edu/wp-content/uploads/2024/05/SWIHA-Laughter-Club.jpg
END:VEVENT
BEGIN:VEVENT
DTSTART;TZID=America/Phoenix:20250926T180000
DTEND;TZID=America/Phoenix:20250926T190000
DTSTAMP:20260423T112432
CREATED:20250711T174826Z
LAST-MODIFIED:20250711T174826Z
UID:108102-1758909600-1758913200@swiha.edu
SUMMARY:SWIHA HA HA Laughter Club
DESCRIPTION:Join us for some laughter! \nLaughter will balance and relax you\, reverse unhealthy reactions to stress\, and help you enjoy life more! They say laughter is the best medicine–come find out at SWIHA! This event is complimentary and open to the public! \nNo need to RSVP just show up. Call for questions 480-994-9244
URL:https://swiha.edu/event/swiha-ha-ha-laughter-club-14/2025-09-26/
LOCATION:AZ
ATTACH;FMTTYPE=image/jpeg:https://swiha.edu/wp-content/uploads/2024/05/SWIHA-Laughter-Club.jpg
END:VEVENT
BEGIN:VEVENT
DTSTART;TZID=America/Phoenix:20251003T173000
DTEND;TZID=America/Phoenix:20251003T180000
DTSTAMP:20260423T112432
CREATED:20250711T182227Z
LAST-MODIFIED:20250711T182227Z
UID:108112-1759512600-1759514400@swiha.edu
SUMMARY:General Open House and Tour
DESCRIPTION:Curious about who we are? Learn about our programs\, individual classes\, or personal development classes\, financial aid and more. Come visit our beautiful campus for a guided tour and Q&A opportunity with our Admissions Team. Afterward\, be our guest at our monthly Gifts & Graces event to enjoy mini complimentary energy sessions and a special guest speaker to really get a feel for our unique and inviting SWIHA Community!  (complimentary) \nEmail us at info@swiha.edu. \n to RSVP.
URL:https://swiha.edu/event/general-open-house-and-tour/2025-10-03/
LOCATION:Southwest Institute of Healing Arts\, 1538 E Southern Ave\, Tempe\, AZ\, 85282\, United States
ATTACH;FMTTYPE=image/jpeg:https://swiha.edu/wp-content/uploads/2024/01/General-Open-House.jpg
END:VEVENT
BEGIN:VEVENT
DTSTART;TZID=America/Phoenix:20251003T180000
DTEND;TZID=America/Phoenix:20251003T190000
DTSTAMP:20260423T112432
CREATED:20250813T182349Z
LAST-MODIFIED:20250905T231359Z
UID:108160-1759514400-1759518000@swiha.edu
SUMMARY:October Gifts and Graces: Choose to be Extraordinary
DESCRIPTION:Register Here \nExtraordinary individuals choose to rise above the ordinary\, embracing their unique journeys and daring to carve their own paths\, inspiring others to unleash their true potential. \nJoin an inspiring night full of innovation as John Sanders shares his experiences of box-busting! Big ideas come from forward thinking people who challenge the norms and invent the world they want to see rather than submitting to the limitation of what has always been done. \n**Following John Sanders’ insightful presentation\, multiple Bodyworkers demonstrate their Extraordinary massage skills\, known a “Mad Skills Mania.” Feel the energy that happens when a room full of Artists shares their knowledge\, modalities and body mechanics all at the same time\, including SPECIAL GUEST\, SWIHA Founder KC Miller! \nJohn has been teaching Massage Students as an Instructor for the past 18+ years and has loved every minute being an Instructor at SWIHA. The first ever Massage Championship in the United States was organized by John Sanders\, LMT\, in 2019. \nAfter Gifts and Graces\, come experience a mini energy session from one of our practitioners or vendors. Toe Reading\, Reiki\, Tarot Reading\, Polarity\, Coaching and more will be available. Gratuities are Suggested. \n1538 E. Southern Ave. Tempe AZ 85282  |  480-994-9244 \ninfo@swiha.edu.
URL:https://swiha.edu/event/october-gifts-and-graces-choose-to-be-extraordinary/
LOCATION:Southwest Institute of Healing Arts\, 1538 E Southern Ave\, Tempe\, AZ\, 85282\, United States
ATTACH;FMTTYPE=image/jpeg:https://swiha.edu/wp-content/uploads/2025/08/october-Gifts-Graces-FB.jpg
END:VEVENT
BEGIN:VEVENT
DTSTART;TZID=America/Phoenix:20251101T090000
DTEND;TZID=America/Phoenix:20251101T153000
DTSTAMP:20260423T112432
CREATED:20250822T182321Z
LAST-MODIFIED:20250822T182321Z
UID:108173-1761987600-1762011000@swiha.edu
SUMMARY:Fall Festival
DESCRIPTION:The Southwest Institute of Healing Arts Fall Festival is a complimentary\, community\,\nfamily-friendly celebration of yoga\, art\, healing\, and UNITY! Join us for a day of yoga\nclass\, song circle\, sound healing\, practitioners\, and vendors! \n– 9:00am Yoga all levels with Will Zecco (at the greenbelt)\n– 11:00pm Song Circle led by Juli Burdette (at the greenbelt)\n– 3:30pm Closing Ceremony / Sound Healing with Will Zecco (at SWIHA)\n– Massage Championship (9am – 2:30pm)\n– Vendors and Practitioners all day\n– Complimentary Event – Open to the Public \nTo Register to our FALL FESTIVAL\, CLICK HERE \nFor vendor Opportunities please contact James Patrick at jamesp@swiha.edu
URL:https://swiha.edu/event/fall-festival/
LOCATION:Southwest Institute of Healing Arts\, 1538 E Southern Ave\, Tempe\, AZ\, 85282\, United States
ATTACH;FMTTYPE=image/jpeg:https://swiha.edu/wp-content/uploads/2025/08/FALL-FESTIVAL-BANNER.jpg
END:VEVENT
BEGIN:VEVENT
DTSTART;TZID=America/Phoenix:20251107T173000
DTEND;TZID=America/Phoenix:20251107T180000
DTSTAMP:20260423T112432
CREATED:20250711T182227Z
LAST-MODIFIED:20250711T182227Z
UID:108113-1762536600-1762538400@swiha.edu
SUMMARY:General Open House and Tour
DESCRIPTION:Curious about who we are? Learn about our programs\, individual classes\, or personal development classes\, financial aid and more. Come visit our beautiful campus for a guided tour and Q&A opportunity with our Admissions Team. Afterward\, be our guest at our monthly Gifts & Graces event to enjoy mini complimentary energy sessions and a special guest speaker to really get a feel for our unique and inviting SWIHA Community!  (complimentary) \nEmail us at info@swiha.edu. \n to RSVP.
URL:https://swiha.edu/event/general-open-house-and-tour/2025-11-07/
LOCATION:Southwest Institute of Healing Arts\, 1538 E Southern Ave\, Tempe\, AZ\, 85282\, United States
ATTACH;FMTTYPE=image/jpeg:https://swiha.edu/wp-content/uploads/2024/01/General-Open-House.jpg
END:VEVENT
BEGIN:VEVENT
DTSTART;TZID=America/Phoenix:20251107T180000
DTEND;TZID=America/Phoenix:20251107T190000
DTSTAMP:20260423T112432
CREATED:20250925T204842Z
LAST-MODIFIED:20250926T172631Z
UID:108218-1762538400-1762542000@swiha.edu
SUMMARY:November Gifts and Graces with Debbie Chamberlain
DESCRIPTION:Click to register  \nIn this heartfelt presentation\, Debbie invites participants to reflect on the power of gratitude in shaping our stories—even in the chapters that challenged or tried to break us. She shares how her personal journey through struggle led her to write children’s books that now help young readers embrace mindfulness\, self-love\, and resilience. \nDebbie will also highlight her work with Amanda Hope Rainbow Angels\, where her stories are shared with young warriors battling childhood cancer and their families to bring comfort and hope during incredibly challenging times. Through personal stories\, practical gratitude practices\, and interactive moments\, Debbie shows how gratitude transforms pain into purpose. \nParticipants will leave inspired to honor their own story\, equipped with simple tools to cultivate gratitude\, and encouraged to use their experiences to bring light to others. \nDebbie Chamberlain is a former educator of nearly 20 years\, a certified mindfulness\, brain health\, and yoga instructor\, and the author of multiple children’s books that inspire gratitude\, kindness\, and resilience. After facing her own journey with debilitating anxiety and depression\, Debbie discovered strength through gratitude and creativity. Today\, she shares her passion for mindfulness and storytelling with schools\, families\, and organizations—including Amanda Hope Rainbow Angels\, where her books are shared with children battling cancer and their families as part of the Comfy Cozy Care Packs program. \n  After Gifts and Graces\, come experience a mini energy session from one of our practitioners or vendors. Toe Reading\, Reiki\, Tarot Reading\, Polarity\, Coaching and more will be available. Gratuities are Suggested. \n1538 E. Southern Ave. Tempe AZ 85282 | 480-994-9244  | info@swiha.edu
URL:https://swiha.edu/event/november-gifts-and-graces-with-debbie-chamberlain/
LOCATION:Southwest Institute of Healing Arts\, 1538 E Southern Ave\, Tempe\, AZ\, 85282\, United States
ATTACH;FMTTYPE=image/jpeg:https://swiha.edu/wp-content/uploads/2025/09/November-Gifts-Graces-final-Small-1.jpg
END:VEVENT
BEGIN:VEVENT
DTSTART;TZID=America/Phoenix:20251205T173000
DTEND;TZID=America/Phoenix:20251205T180000
DTSTAMP:20260423T112432
CREATED:20250711T182227Z
LAST-MODIFIED:20250711T182227Z
UID:108114-1764955800-1764957600@swiha.edu
SUMMARY:General Open House and Tour
DESCRIPTION:Curious about who we are? Learn about our programs\, individual classes\, or personal development classes\, financial aid and more. Come visit our beautiful campus for a guided tour and Q&A opportunity with our Admissions Team. Afterward\, be our guest at our monthly Gifts & Graces event to enjoy mini complimentary energy sessions and a special guest speaker to really get a feel for our unique and inviting SWIHA Community!  (complimentary) \nEmail us at info@swiha.edu. \n to RSVP.
URL:https://swiha.edu/event/general-open-house-and-tour/2025-12-05/
LOCATION:Southwest Institute of Healing Arts\, 1538 E Southern Ave\, Tempe\, AZ\, 85282\, United States
ATTACH;FMTTYPE=image/jpeg:https://swiha.edu/wp-content/uploads/2024/01/General-Open-House.jpg
END:VEVENT
BEGIN:VEVENT
DTSTART;TZID=America/Phoenix:20251205T180000
DTEND;TZID=America/Phoenix:20251205T190000
DTSTAMP:20260423T112432
CREATED:20251007T174524Z
LAST-MODIFIED:20251008T000956Z
UID:108242-1764957600-1764961200@swiha.edu
SUMMARY:Discover the Hidden Messages of Numbers with KC Miller
DESCRIPTION:Numerology is the mystical study of numbers and their profound influence on our lives.  Join KC Miller as she reveals the hidden meanings behind the digits that surround us\, offering insights into your personality\, purpose\, and life path. By understanding the vibrational energy of numbers\, we can unlock our potential\, navigate challenges\, and embrace opportunities for growth\, especially as we prepare for a new year!   \nIn the tapestry of existence\, numerology serves as a guiding compass\, illuminating the journey toward self-discovery and fulfillment. For example\, 2026 is 2+0+2+6 =10 or 1\, which symbolizes in beginnings!  Come discover the powerful new beginning that awaits you! \nClick here to register \nAfter Gifts and Graces\, come experience a mini energy session from one of our practitioners or vendors. Toe Reading\, Reiki\, Tarot Reading\, Polarity\, Coaching and more will be available. Gratuities are Suggested. \n1538 E. Southern Ave. Tempe AZ 85282 | 480-994-9244 |info@swiha.edu
URL:https://swiha.edu/event/discover-the-hidden-messages-of-numbers-with-kc-miller/
LOCATION:Southwest Institute of Healing Arts\, 1538 E Southern Ave\, Tempe\, AZ\, 85282\, United States
ATTACH;FMTTYPE=image/jpeg:https://swiha.edu/wp-content/uploads/2025/10/December-Gifts-Graces.jpg
END:VEVENT
END:VCALENDAR