BEGIN:VCALENDAR
VERSION:2.0
PRODID:-//Southwest Institute of Healing Arts | Accredited Healing Arts Programs - ECPv5.16.3.1//NONSGML v1.0//EN
CALSCALE:GREGORIAN
METHOD:PUBLISH
X-WR-CALNAME:Southwest Institute of Healing Arts | Accredited Healing Arts Programs
X-ORIGINAL-URL:https://swiha.edu
X-WR-CALDESC:Events for Southwest Institute of Healing Arts | Accredited Healing Arts Programs
REFRESH-INTERVAL;VALUE=DURATION:PT1H
X-Robots-Tag:noindex
X-PUBLISHED-TTL:PT1H
BEGIN:VTIMEZONE
TZID:America/Phoenix
BEGIN:STANDARD
TZOFFSETFROM:-0700
TZOFFSETTO:-0700
TZNAME:MST
DTSTART:20230101T000000
END:STANDARD
END:VTIMEZONE
BEGIN:VEVENT
DTSTART;TZID=America/Phoenix:20231103T180000
DTEND;TZID=America/Phoenix:20231103T190000
DTSTAMP:20260423T162506
CREATED:20230927T153706Z
LAST-MODIFIED:20230927T175344Z
UID:106531-1699034400-1699038000@swiha.edu
SUMMARY:Gifts & Graces: Creating Confidence Through Self-Connection
DESCRIPTION:Join us for an inspiring and transformative talk with Brian and Jasper\, two dedicated practitioners in the fields of holistic wellness\, embodiment\, and empowerment. Brian\, a seasoned breathwork practitioner and health coach\, brings a unique perspective rooted in Nature\, harnessing the wisdom of the natural world to foster self-connection and resilience. Jasper\, a fitness and nutrition coach\, is driven by the belief that true confidence is born from inner alignment and balance. \n“Creating Confidence Through Self-Connection\,” is a journey towards discovering your most empowered and confident self. Through a blend of practices such as movement\, mindful nutrition\, breathwork\, and meditation\, Brian and Jasper will guide you in integrating these transformative tools into your daily routine. By cultivating self-connection through these practices\, you will enhance your sense of confidence and pave the way to a more enriching and fulfilled life. Join us as we explore the path to self-assuredness and unlock the potential for a brighter\, more confident future. \nAfter Gifts and Graces\, come experience a mini energy session from one of our practitioners or vendors. Toe Reading\, Reiki\, Tarot Reading\, Polarity\, Coaching and more will be available. Gratuities are Suggested. \n**This is a complimentary in-person/FB Live event**\nPlease RSVP to attend in person to rsvp@swiha.edu\nPlease RSVP to FB Live: https://forms.gle/4qEGtjqkuWzvQtAs8  \nIF YOU ARE A GRADUATE AND GRADUATING PLEASE RSVP HERE
URL:https://swiha.edu/event/gifts-graces-creating-confidence-through-self-connection/
ATTACH;FMTTYPE=image/jpeg:https://swiha.edu/wp-content/uploads/2023/09/November-Gifts-Graces.jpg
END:VEVENT
BEGIN:VEVENT
DTSTART;TZID=America/Phoenix:20231106T160000
DTEND;TZID=America/Phoenix:20231106T170000
DTSTAMP:20260423T162506
CREATED:20231016T224544Z
LAST-MODIFIED:20231016T225642Z
UID:106599-1699286400-1699290000@swiha.edu
SUMMARY:Health & Wellness Coaching Webinars
DESCRIPTION:You are invited to join the Southwest Institute of Healing Arts’ webinar series featuring the 755-hour Holistic Health & Wellness Coach Diploma Program. \nPlease Register to our Webinar Here: https://us06web.zoom.us/webinar/register/WN_lDXwvFb8QF-GLdkD_AZxkQ#/registration \nThe Holistic Health and Wellness Coaching diploma program is for individuals who are motivated to lead healthier lives\, be centered in their wellness\, and inspire others to do the same through a career in Health and Wellness Coaching. With a variety of courses including Psychology\, Nutrition\, and coaching – there are many career pathways a Health and Wellness Coach can take! You will get to choose either a focus of Mindful Meditation Facilitator or Whole Food Culinary Specialist to compliment your personal vision. Our NBHWC-accredited and approved program will also help prepare you to take the certification exam to become a certified Health & Wellness Coach through NBHWC. \nIf you are ready to share your healing passion in the world in a loving and profitable way\, chat with an Admissions Coach through Call: (480) 994-9244. Email: info@swiha.edu
URL:https://swiha.edu/event/health-wellness-coaching-webinars-2/
ATTACH;FMTTYPE=image/jpeg:https://swiha.edu/wp-content/uploads/2023/10/Health-and-Wellness-Coaching.jpg
END:VEVENT
BEGIN:VEVENT
DTSTART;TZID=America/Phoenix:20231110T180000
DTEND;TZID=America/Phoenix:20231110T190000
DTSTAMP:20260423T162506
CREATED:20220606T161417Z
LAST-MODIFIED:20220606T161417Z
UID:106282-1699639200-1699642800@swiha.edu
SUMMARY:SWIHA ha ha Laughter Club
DESCRIPTION:Join us for some laughter! \nLaughter will balance and relax you\, reverse unhealthy reactions to stress\, and help you enjoy life more!\nThey say laughter is the best medicine–come find out at SWIHA!\nThis event is complimentary and open to the public! \nNo need to RSVP just show up. Call for questions 480-994-9244\nOur address 1538 E Southern Ave. Tempe\, AZ 85282
URL:https://swiha.edu/event/swiha-ha-ha-laughter-club/2023-11-10/
LOCATION:Southwest Institute of Healing Arts\, 1538 E Southern Ave\, Tempe\, AZ\, 85282\, United States
ATTACH;FMTTYPE=image/jpeg:https://swiha.edu/wp-content/uploads/2022/06/Swiha-ha-ha.jpg
END:VEVENT
BEGIN:VEVENT
DTSTART;TZID=America/Phoenix:20231118T083000
DTEND;TZID=America/Phoenix:20231118T133000
DTSTAMP:20260423T162506
CREATED:20230927T154647Z
LAST-MODIFIED:20230927T154805Z
UID:106535-1700296200-1700314200@swiha.edu
SUMMARY:Arizona’s Massage Championship
DESCRIPTION:Arizona’s Massage Championship\nSaturday\, November 18\, 2023 from 8:30am – 1:30pm\nA Celebration of the Artistry and Beauty of Massage. Looking for the Best of the Best.\nPurpose of Massage Championship: \n\nThe Massage Championship is an opportunity for Massage Therapists to find professional inspiration and networking.\nBy participating the Massage Therapists will get the opportunity to strengthen and improve their skills.\nA Diploma will be issued for each participant\, enabling the Massage Therapists to Brand their business in a new way.\n\nGrand Prize: 100 Hrs of SWIHA Classes = $1800 Value\n2nd Prize: 50 Hrs of SWIHA Classes = $900 Value\n3rd Prize: 30 Hrs of SWIHA Classes = $540 Value\nAll participants will receive up to 20 Hrs of CEUs\nOne Category Competition: Swedish Freestyle Table Massage\n•	Click to register for the competition\n$35 Per Entry  \nGot questions email: Alsinia Hutzler at alsiniah@swiha.edu\n*Must be a Licensed Massage Therapist.
URL:https://swiha.edu/event/arizonas-massage-championship-2/
LOCATION:Southwest Institute of Healing Arts\, 1538 E Southern Ave\, Tempe\, AZ\, 85282\, United States
ATTACH;FMTTYPE=image/jpeg:https://swiha.edu/wp-content/uploads/2023/09/massage-championship-banner.jpg
END:VEVENT
BEGIN:VEVENT
DTSTART;TZID=America/Phoenix:20231118T090000
DTEND;TZID=America/Phoenix:20231118T120000
DTSTAMP:20260423T162506
CREATED:20230927T175627Z
LAST-MODIFIED:20230928T151213Z
UID:106543-1700298000-1700308800@swiha.edu
SUMMARY:Massage Career Fair at SWIHA
DESCRIPTION:Southwest Institute of Healing Arts will also be hosting a Career Fair with several Massage Employers for our students and graduates to connect with!\nThe employers will be present in the hallway right outside the Massage Championship from 9 am to 12 pm.\nBring your resume. \nClick to view what each location has to offer Here\n•	Squeeze Massage – location is in Scottsdale (Will be opening new locations in Gilbert and Chandler)\n•	The NOW Massage – locations- Scottsdale and Chandler\n•	Civana Wellness Resort & Spa Carefree-  location Carefree\n•	Hand and Stone Spa – locations – Chandler/Gilbert & Old Town Scottsdale\n•	Sol Touch Massage – location –Tempe\n•	CW Sports Therapy-  location- Mesa
URL:https://swiha.edu/event/massage-career-fair-at-swiha/
ATTACH;FMTTYPE=image/png:https://swiha.edu/wp-content/uploads/2023/09/Massage-Career-Fair-560-×-246-px-1.png
END:VEVENT
BEGIN:VEVENT
DTSTART;TZID=America/Phoenix:20231118T090000
DTEND;TZID=America/Phoenix:20231118T153000
DTSTAMP:20260423T162506
CREATED:20230816T152325Z
LAST-MODIFIED:20230919T185543Z
UID:106470-1700298000-1700321400@swiha.edu
SUMMARY:Fall Festival and Massage Championship
DESCRIPTION:The Southwest Institute of Healing Arts Fall Festival is a complimentary\, community\, family-friendly celebration of yoga\, art\, healing\, and UNITY! Join us for a full day of yoga classes\, meditation\, sound healing\, drumming\, and vendors! \nSaturday\, November 18\, 2023 – 9 – 3:30pm \n9am-10:30am    *Yoga on the Green Belt with Will Zecco\n11am-12pm    *Breath & Sound with Brian Sheldon\n12:15pm-1:45pm    Ecstatic Dance Class lead by Juli Burdette\n2pm -3:30pm       *Yoga Nidra & Sound Healing with Crystal Valentina\n                            Complimentary Yoga Studio Classes All Day\n                            Vendors all day /  Blood Drive / $20 Facial Vouchers\n                            *Bring your own Yoga Mat\n________________________________________\n3rd Annual Arizona Massage Championship \n9am – 1:30pm At SWIHA – Come Watch!\n  A Celebration of the Artistry and Beauty of Massage.\n  Looking for creativity\, flow\, and showmanship. \nBring the whole family and enjoy a day of fun and celebration.\nEmail us for questions at info@swiha.edu \nAt Spirit of Yoga Green Belt\n1420 E. Southern Ave. Tempe\, AZ 85282
URL:https://swiha.edu/event/fall-festival-and-massage-championship/
LOCATION:Spirit of Yoga\, 1420 E Southern Ave\, Tempe\, AZ\, 85282\, United States
ATTACH;FMTTYPE=image/jpeg:https://swiha.edu/wp-content/uploads/2023/08/Fall-Festival-2023.jpg
END:VEVENT
BEGIN:VEVENT
DTSTART;TZID=America/Phoenix:20231120T160000
DTEND;TZID=America/Phoenix:20231120T170000
DTSTAMP:20260423T162506
CREATED:20231017T205620Z
LAST-MODIFIED:20231017T205620Z
UID:106604-1700496000-1700499600@swiha.edu
SUMMARY:Health & Wellness Coaching Webinars
DESCRIPTION:You are invited to join the Southwest Institute of Healing Arts’ webinar series featuring the 755-hour Holistic Health & Wellness Coach Diploma Program. \nPlease Register to our Webinar Here:\nhttps://us06web.zoom.us/webinar/register/WN_PjLJoVWCTH2lrkaQqmgFKg#/registration \nThe Holistic Health and Wellness Coaching diploma program is for individuals who are motivated to lead healthier lives\, be centered in their wellness\, and inspire others to do the same through a career in Health and Wellness Coaching. With a variety of courses including Psychology\, Nutrition\, and coaching – there are many career pathways a Health and Wellness Coach can take! You will get to choose either a focus of Mindful Meditation Facilitator or Whole Food Culinary Specialist to compliment your personal vision. Our NBHWC-accredited and approved program will also help prepare you to take the certification exam to become a certified Health & Wellness Coach through NBHWC. \nIf you are ready to share your healing passion in the world in a loving and profitable way\, chat with an Admissions Coach through Call: (480) 994-9244. Email: info@swiha.edu
URL:https://swiha.edu/event/health-wellness-coaching-webinars-3/
ATTACH;FMTTYPE=image/jpeg:https://swiha.edu/wp-content/uploads/2023/10/Health-and-Wellness-Coaching.jpg
END:VEVENT
END:VCALENDAR