BEGIN:VCALENDAR
VERSION:2.0
PRODID:-//Southwest Institute of Healing Arts | Accredited Healing Arts Programs - ECPv5.16.3.1//NONSGML v1.0//EN
CALSCALE:GREGORIAN
METHOD:PUBLISH
X-WR-CALNAME:Southwest Institute of Healing Arts | Accredited Healing Arts Programs
X-ORIGINAL-URL:https://swiha.edu
X-WR-CALDESC:Events for Southwest Institute of Healing Arts | Accredited Healing Arts Programs
REFRESH-INTERVAL;VALUE=DURATION:PT1H
X-Robots-Tag:noindex
X-PUBLISHED-TTL:PT1H
BEGIN:VTIMEZONE
TZID:America/Phoenix
BEGIN:STANDARD
TZOFFSETFROM:-0700
TZOFFSETTO:-0700
TZNAME:MST
DTSTART:20230101T000000
END:STANDARD
END:VTIMEZONE
BEGIN:VEVENT
DTSTART;TZID=America/Phoenix:20231201T180000
DTEND;TZID=America/Phoenix:20231201T190000
DTSTAMP:20260423T150741
CREATED:20231005T180755Z
LAST-MODIFIED:20231005T180851Z
UID:106564-1701453600-1701457200@swiha.edu
SUMMARY:December Gifts and Graces: Answer the Call
DESCRIPTION:“The Divine does not necessarily call the qualified; the called are qualified by their willingness!” \nHave you ever felt an inner knowing that you were to do something\, yet you just couldn’t quite put your finger on what that something was?  Or\, have you ever known what you were called to do\, yet question why you were called\, or if you were really qualified to answer the call?  \nYou are not alone!  Many people experience an inner itch or urge to step up to a higher calling\, yet find themselves questioning! Will Zecco and KC Miller have experienced this exact thing\, and have figured out how to step beyond confusion or the “imposter syndrome.”  Join them for Gifts and Graces as they share five very specific steps for getting out of your own way\, how to tune into what’s really true for you and the prayer to use for continued\, on-going guidance. There will be song\, laughter and affirmations\, along with a Reiki blessing! \nPS – If you are a Reiki Practitioner\, please join us to offer the guest of Gifts and Graces a blessing of prosperity and protection. \nWill Zecco has answered many calls in his life\, from hairdresser to Singer to Director of Yoga Student Services; Will has felt the fear and questioned his calling. On each step of reinventing himself\, there has been a lesson in building resiliency\, developing emotional intelligence and self-awareness\, and cultivating a growth mindset to get beyond adversity and stress.  \nKC Miller was a farmer’s daughter\, with a bad case of dyslexia growing up\, who started her career selling grain bins in northern Colorado.  There was nothing that technically qualified her to start a nationally accredited college that became approved by the US Department of education\, yet she was willing!  She firmly that ‘there is a plan’ for every soul here on earth\, there are no extra souls\, and that we will be shown the way when we listen with our heart.  \nAfter Gifts and Graces\, come and experience a mini energy session from one of our practitioners or vendors. Toe Reading\, Reiki\, Tarot Reading\, Polarity\, Coaching and more will be available. Gratuities are suggested. \n**This is a complimentary in-person and FB Live event**\nRSVP to Attend in Person at rsvp@swiha.edu\nJoin us on Facebook Live the day of the event
URL:https://swiha.edu/event/december-gifts-and-graces-answer-the-call/
LOCATION:Southwest Institute of Healing Arts\, 1538 E Southern Ave\, Tempe\, AZ\, 85282\, United States
ATTACH;FMTTYPE=image/jpeg:https://swiha.edu/wp-content/uploads/2023/10/Answer-the-Call-KC-Will-Banner-1.jpg
END:VEVENT
BEGIN:VEVENT
DTSTART;TZID=America/Phoenix:20231202T090000
DTEND;TZID=America/Phoenix:20231202T170000
DTSTAMP:20260423T150741
CREATED:20230927T152845Z
LAST-MODIFIED:20230927T152845Z
UID:106528-1701507600-1701536400@swiha.edu
SUMMARY:Explore Massage Therapy as a Career – Complimentary Event
DESCRIPTION:If you are searching for a new career and have questions\, join us for a day of exploration.\nHave you ever imagined what it would be like to be a therapist in the massage industry? Come and explore the possibilities! This experience is designed to give you a firsthand look at the healing benefits of Massage Therapy\, the power of touch\, and the importance of professional\, safe draping procedures. We will also have the opportunity to explore the abundant employment opportunities available for bodywork practitioners. \nCall Student Services to RSVP at (480) 994-9244 or email us at info@swiha.edu.\nClass code EV 133. The class will be limited to 14 people.
URL:https://swiha.edu/event/explore-massage-therapy-as-a-career-complimentary-event/
LOCATION:Southwest Institute of Healing Arts\, 1538 E Southern Ave\, Tempe\, AZ\, 85282\, United States
ATTACH;FMTTYPE=image/jpeg:https://swiha.edu/wp-content/uploads/2023/09/Massage-EXploration-Banner.jpg
END:VEVENT
BEGIN:VEVENT
DTSTART;TZID=America/Phoenix:20231208T180000
DTEND;TZID=America/Phoenix:20231208T190000
DTSTAMP:20260423T150741
CREATED:20220606T161417Z
LAST-MODIFIED:20220606T161417Z
UID:106283-1702058400-1702062000@swiha.edu
SUMMARY:SWIHA ha ha Laughter Club
DESCRIPTION:Join us for some laughter! \nLaughter will balance and relax you\, reverse unhealthy reactions to stress\, and help you enjoy life more!\nThey say laughter is the best medicine–come find out at SWIHA!\nThis event is complimentary and open to the public! \nNo need to RSVP just show up. Call for questions 480-994-9244\nOur address 1538 E Southern Ave. Tempe\, AZ 85282
URL:https://swiha.edu/event/swiha-ha-ha-laughter-club/2023-12-08/
LOCATION:Southwest Institute of Healing Arts\, 1538 E Southern Ave\, Tempe\, AZ\, 85282\, United States
ATTACH;FMTTYPE=image/jpeg:https://swiha.edu/wp-content/uploads/2022/06/Swiha-ha-ha.jpg
END:VEVENT
END:VCALENDAR