BEGIN:VCALENDAR
VERSION:2.0
PRODID:-//Southwest Institute of Healing Arts | Accredited Healing Arts Programs - ECPv5.16.3.1//NONSGML v1.0//EN
CALSCALE:GREGORIAN
METHOD:PUBLISH
X-ORIGINAL-URL:https://swiha.edu
X-WR-CALDESC:Events for Southwest Institute of Healing Arts | Accredited Healing Arts Programs
REFRESH-INTERVAL;VALUE=DURATION:PT1H
X-Robots-Tag:noindex
X-PUBLISHED-TTL:PT1H
BEGIN:VTIMEZONE
TZID:America/Phoenix
BEGIN:STANDARD
TZOFFSETFROM:-0700
TZOFFSETTO:-0700
TZNAME:MST
DTSTART:20240101T000000
END:STANDARD
END:VTIMEZONE
BEGIN:VEVENT
DTSTART;TZID=America/Phoenix:20240105T180000
DTEND;TZID=America/Phoenix:20240105T190000
DTSTAMP:20260423T151015
CREATED:20231003T174845Z
LAST-MODIFIED:20231003T185701Z
UID:106557-1704477600-1704481200@swiha.edu
SUMMARY:January Gifts & Graces: Empowering your Mind
DESCRIPTION:Rumi says\, “what you seek is seeking you”… perhaps it’s true.  The evidence of the power of our minds is undeniable. The ancient texts of the Buddha tell us that no external condition can be the cause of our happiness; only the mind has that ability. When people clearly understand how they are influenced\, the root causes of struggle and what we can do with our minds to make things better are revealed. The result is sustainable happiness and radiant joy. \nAs a Buddhist monk\, Bhante Sujatha has lived a life dedicated to the cultivation of mind and heart. He has been given a front row seat to the incredible transformations that have developed within so many people that he has taught through his experience on how to empower their minds.  \nCultivating these qualities will help you to find strength and happiness\, as well as nurture in you a burning desire to add more love to the world. When we understand our mind\, we begin to re-shape our behavior and feelings about so many things. It’s the most loving act of service one can do for themselves and the world. \n*Choose Loving-Kindness Items and Bhante’s publications will be available for purchase on site\, and Bhante will be available for book signing following the program. Proceeds from all sales go directly toward supporting Bhante Sujatha’s charitable work in Sri Lanka and around the globe. \nAbout Bhante:\nBhante Sujatha\, a 40+ years Buddhist Monk\, is singularly focused on adding more love in the world. Bhante teaches loving-kindness meditation to people around the globe for all those seeking the art of happiness and contentment. His approach to meditation is deep and simple\, bringing core Buddhist teachings to everyone in a way that is practical and easy to understand. A joyful\, radiant\, funny and wildly energetic monk\, Bhante will help you obtain peace that can only be found in deep silence.  Bhante believes his purpose is not only to teach meditation\, but also\, “teaching people how to be happy.” For more information visit Bhante’s website www.bhantesujatha.org \nAfter Gifts and Graces\, come and experience a mini energy session from one of our practitioners or vendors. Toe Reading\, Reiki\, Tarot Reading\, Polarity\, Coaching and more will be available. Gratuities are suggested. \n**This is a complimentary in-person/FB Live event**\nRSVP to Attend in Person at rsvp@swiha.edu\nJoin us on Facebook Live the day of the event
URL:https://swiha.edu/event/january-gifts-graces-empowering-your-mind/
LOCATION:Southwest Institute of Healing Arts\, 1538 E Southern Ave\, Tempe\, AZ\, 85282\, United States
ATTACH;FMTTYPE=image/jpeg:https://swiha.edu/wp-content/uploads/2023/10/GNG-Empoering-your-mind.jpg
END:VEVENT
BEGIN:VEVENT
DTSTART;TZID=America/Phoenix:20240118T100000
DTEND;TZID=America/Phoenix:20240118T110000
DTSTAMP:20260423T151015
CREATED:20230922T154650Z
LAST-MODIFIED:20231220T225531Z
UID:106519-1705572000-1705575600@swiha.edu
SUMMARY:Yoga Teacher Training – 1/18/24
DESCRIPTION:Come meet the teacher\, ask any questions you may have about the program\, and gain some insight into what lies ahead for you within SWIHA’s YTT programs! \nOPEN HOUSE: January 18th 2024\nWHERE: Spirit of Yoga (1420 E Southern Ave. Tempe\, AZ 85282)\nRSVP: info@swiha.edu \nFast Track YTT Program Start Date:\nFebruary 12\, 2024 – Mornings (Monday-Thursday 10am -1pm) \nStudents who have successfully completed Yoga Teacher training with SWIHA\, a Registered Yoga School (RYS®)\, receive a Registered Yoga Teacher (RYT®) designation based on their level of training and teaching experience. We teach\, UNITY Yoga\, which is a classically inspired Yoga Teacher Training program\, based on the 8-limbs of yoga\, offered with a transformational approach. We are not a guru or lineage based program\, rather each student is encouraged to go within to find their personal truth and find their authentic expression as a teacher. We teach students to teach safe\, sustainable and transformative yoga classes. We strive to provide a ‘safe space’ and ‘safe container’ for learning and transformation — a place or environment in which a students can feel confident they will be safe from criticism\, discrimination\, harassment\, or any other emotional or physical harm. Located in Tempe\, Arizona\, our program has been Yoga Alliance approved for over 20 years. \nCall 480-994-9244 for additional questions and assistance.
URL:https://swiha.edu/event/yoga-teacher-training-1-18-24/
LOCATION:Spirit of Yoga\, 1420 E Southern Ave\, Tempe\, AZ\, 85282\, United States
ATTACH;FMTTYPE=image/png:https://swiha.edu/wp-content/uploads/2023/09/Yoga-Open-House-3.png
END:VEVENT
BEGIN:VEVENT
DTSTART;TZID=America/Phoenix:20240127T100000
DTEND;TZID=America/Phoenix:20240127T190000
DTSTAMP:20260423T151015
CREATED:20230622T175005Z
LAST-MODIFIED:20230710T184948Z
UID:106374-1706349600-1706382000@swiha.edu
SUMMARY:Firewalk and Conference
DESCRIPTION:Join us for our annual conference for personal and professional development. It’s an action packed\, goal focused day that culminates with your participation as a firewalker! Come for:\n* Personal Empowerment\n* Developing a Growth Mindset\n* Breaking Limiting Belief\n* Nervous System Recaliberation with Breathwork & Somatic Repatterning\n* And so much more …. \nCourse Code EV 907 | Price $199 | To register by phone call 480-994-9244 or click to register online HERE
URL:https://swiha.edu/event/firewalk-and-conference/
LOCATION:Southwest Institute of Healing Arts\, 1538 E Southern Ave\, Tempe\, AZ\, 85282\, United States
ATTACH;FMTTYPE=image/jpeg:https://swiha.edu/wp-content/uploads/2023/06/Fired-Up.jpg
END:VEVENT
END:VCALENDAR