BEGIN:VCALENDAR
VERSION:2.0
PRODID:-//Southwest Institute of Healing Arts | Accredited Healing Arts Programs - ECPv5.16.3.1//NONSGML v1.0//EN
CALSCALE:GREGORIAN
METHOD:PUBLISH
X-WR-CALNAME:Southwest Institute of Healing Arts | Accredited Healing Arts Programs
X-ORIGINAL-URL:https://swiha.edu
X-WR-CALDESC:Events for Southwest Institute of Healing Arts | Accredited Healing Arts Programs
REFRESH-INTERVAL;VALUE=DURATION:PT1H
X-Robots-Tag:noindex
X-PUBLISHED-TTL:PT1H
BEGIN:VTIMEZONE
TZID:America/Phoenix
BEGIN:STANDARD
TZOFFSETFROM:-0700
TZOFFSETTO:-0700
TZNAME:MST
DTSTART:20240101T000000
END:STANDARD
END:VTIMEZONE
BEGIN:VEVENT
DTSTART;TZID=America/Phoenix:20241101T180000
DTEND;TZID=America/Phoenix:20241101T193000
DTSTAMP:20260423T000824
CREATED:20241003T223037Z
LAST-MODIFIED:20241004T002345Z
UID:107633-1730484000-1730489400@swiha.edu
SUMMARY:November Gifts and Graces: Decoding Our Emotions with Jennifer Sanders
DESCRIPTION:Join Jennifer Sanders\, RPE\, RPP for an exhilarating exploration of how life\, experiences\, and emotions can be decoded for deeper understanding and self-realization.  Oftentimes\, events and experiences can feel overwhelming and challenge us to make sense of why and what is happening. Together we will learn simple techniques for decoding our emotions in relation to our thoughts and experiences.  This process empowers us to make the big things feel small and manageable!  This interactive discussion will lay the framework for understanding how energy and experiences are expressed in the body and in our lives\, and how to utilize the wisdom of Polarity Therapy and Integrative Cranial Sacral Unwinding to access and liberate the body\, mind\, and soul! \nBefore our keynote speaker presentation\, join us in celebrating our #greatgraduates for completing their programs with our on campus graduation ceremony!\nAfter Gifts and Graces\, come experience a mini energy session from one of our practitioners or vendors. Toe Reading\, Reiki\, Tarot Reading\, Polarity\, Coaching and more will be available. Gratuities are Suggested. \n**This is a complimentary in-person/FB Live event** \n Please RSVP to Gifts & Graces at info@swiha.edu  \nJennifer Sanders is a Master Polarity and Integrative Cranial Sacral Unwinding instructor\, Registered Polarity Educator\, Registered Polarity Practitioner\, Aroma Yoga Teacher®\, YTT-200\, Co-Director of the Distance Healing Academy\, Co-Director of the Polarity and Cranial Programs at the Southwest Institute of Healing Arts\, and holds a degree in Mind/ Body Transformational Psychology. She also holds a seat on the Board  of Directors for the American Polarity Therapy Association. In her private practice she specializes in Polarity Therapy\, Integrative Cranial Sacral Unwinding\, Distance Healing\, Life Coaching\, Sound Healing and Aromatherapy to facilitate potent and transformative healing for clients from all walks of life and background
URL:https://swiha.edu/event/november-gifts-and-graces-decoding-our-emotions-with-jennifer-sanders/
ATTACH;FMTTYPE=image/jpeg:https://swiha.edu/wp-content/uploads/2024/10/November-Gift-and-Graces-with-Jennifer-Sanders.jpg
END:VEVENT
BEGIN:VEVENT
DTSTART;TZID=America/Phoenix:20241102T090000
DTEND;TZID=America/Phoenix:20241102T153000
DTSTAMP:20260423T000824
CREATED:20240927T010208Z
LAST-MODIFIED:20241028T175600Z
UID:107621-1730538000-1730561400@swiha.edu
SUMMARY:SWIHA’s Fall Festival
DESCRIPTION:The Southwest Institute of Healing Arts Fall Festival is a complimentary\, community\, family-friendly celebration of healing\, and UNITY!\nJoin us for yoga classes\, song circle\, practitioners\, massage championship\, and vendors! COMPLIMENTARY EVENT! Bring the whole family and enjoy a day of fun and celebration. \n9am – *Yoga all levels with Will Zecco \n11am – Song Circle led by Juli Burdette \n3pm –  *Sound Healing with Will Zecco            \n     *Bring your own Yoga Mat \n-Vendors all day -Practitioners available offering: Reiki\, Intuitive Readers\, Polarity\, Yoga Body Psychology\nFor vendor Opportunities please contact James Patrick at rsvp@swiha.edu. \n-4th Annual Arizona Massage Championship 9am – 3pm At SWIHA – Come Watch! \nA Celebration of the Artistry and Beauty of Massage.\nEncourage creativity\, flow\, and showmanship. If you would like to participate\, email John Sanders at rsvp@swiha.edu
URL:https://swiha.edu/event/swihas-fall-festival/
LOCATION:Southwest Institute of Healing Arts\, 1538 E Southern Ave\, Tempe\, AZ\, 85282\, United States
ATTACH;FMTTYPE=image/jpeg:https://swiha.edu/wp-content/uploads/2024/09/Go-Green-swiha-event-Fall-Festival.jpg
END:VEVENT
END:VCALENDAR