BEGIN:VCALENDAR
VERSION:2.0
PRODID:-//Southwest Institute of Healing Arts | Accredited Healing Arts Programs - ECPv5.16.3.1//NONSGML v1.0//EN
CALSCALE:GREGORIAN
METHOD:PUBLISH
X-WR-CALNAME:Southwest Institute of Healing Arts | Accredited Healing Arts Programs
X-ORIGINAL-URL:https://swiha.edu
X-WR-CALDESC:Events for Southwest Institute of Healing Arts | Accredited Healing Arts Programs
REFRESH-INTERVAL;VALUE=DURATION:PT1H
X-Robots-Tag:noindex
X-PUBLISHED-TTL:PT1H
BEGIN:VTIMEZONE
TZID:America/Phoenix
BEGIN:STANDARD
TZOFFSETFROM:-0700
TZOFFSETTO:-0700
TZNAME:MST
DTSTART:20230101T000000
END:STANDARD
END:VTIMEZONE
BEGIN:VEVENT
DTSTART;TZID=America/Phoenix:20231118T090000
DTEND;TZID=America/Phoenix:20231118T153000
DTSTAMP:20260422T120905
CREATED:20230816T152325Z
LAST-MODIFIED:20230919T185543Z
UID:106470-1700298000-1700321400@swiha.edu
SUMMARY:Fall Festival and Massage Championship
DESCRIPTION:The Southwest Institute of Healing Arts Fall Festival is a complimentary\, community\, family-friendly celebration of yoga\, art\, healing\, and UNITY! Join us for a full day of yoga classes\, meditation\, sound healing\, drumming\, and vendors! \nSaturday\, November 18\, 2023 – 9 – 3:30pm \n9am-10:30am    *Yoga on the Green Belt with Will Zecco\n11am-12pm    *Breath & Sound with Brian Sheldon\n12:15pm-1:45pm    Ecstatic Dance Class lead by Juli Burdette\n2pm -3:30pm       *Yoga Nidra & Sound Healing with Crystal Valentina\n                            Complimentary Yoga Studio Classes All Day\n                            Vendors all day /  Blood Drive / $20 Facial Vouchers\n                            *Bring your own Yoga Mat\n________________________________________\n3rd Annual Arizona Massage Championship \n9am – 1:30pm At SWIHA – Come Watch!\n  A Celebration of the Artistry and Beauty of Massage.\n  Looking for creativity\, flow\, and showmanship. \nBring the whole family and enjoy a day of fun and celebration.\nEmail us for questions at info@swiha.edu \nAt Spirit of Yoga Green Belt\n1420 E. Southern Ave. Tempe\, AZ 85282
URL:https://swiha.edu/event/fall-festival-and-massage-championship/
LOCATION:Spirit of Yoga\, 1420 E Southern Ave\, Tempe\, AZ\, 85282\, United States
ATTACH;FMTTYPE=image/jpeg:https://swiha.edu/wp-content/uploads/2023/08/Fall-Festival-2023.jpg
END:VEVENT
BEGIN:VEVENT
DTSTART;TZID=America/Phoenix:20240118T100000
DTEND;TZID=America/Phoenix:20240118T110000
DTSTAMP:20260422T120905
CREATED:20230922T154650Z
LAST-MODIFIED:20231220T225531Z
UID:106519-1705572000-1705575600@swiha.edu
SUMMARY:Yoga Teacher Training – 1/18/24
DESCRIPTION:Come meet the teacher\, ask any questions you may have about the program\, and gain some insight into what lies ahead for you within SWIHA’s YTT programs! \nOPEN HOUSE: January 18th 2024\nWHERE: Spirit of Yoga (1420 E Southern Ave. Tempe\, AZ 85282)\nRSVP: info@swiha.edu \nFast Track YTT Program Start Date:\nFebruary 12\, 2024 – Mornings (Monday-Thursday 10am -1pm) \nStudents who have successfully completed Yoga Teacher training with SWIHA\, a Registered Yoga School (RYS®)\, receive a Registered Yoga Teacher (RYT®) designation based on their level of training and teaching experience. We teach\, UNITY Yoga\, which is a classically inspired Yoga Teacher Training program\, based on the 8-limbs of yoga\, offered with a transformational approach. We are not a guru or lineage based program\, rather each student is encouraged to go within to find their personal truth and find their authentic expression as a teacher. We teach students to teach safe\, sustainable and transformative yoga classes. We strive to provide a ‘safe space’ and ‘safe container’ for learning and transformation — a place or environment in which a students can feel confident they will be safe from criticism\, discrimination\, harassment\, or any other emotional or physical harm. Located in Tempe\, Arizona\, our program has been Yoga Alliance approved for over 20 years. \nCall 480-994-9244 for additional questions and assistance.
URL:https://swiha.edu/event/yoga-teacher-training-1-18-24/
LOCATION:Spirit of Yoga\, 1420 E Southern Ave\, Tempe\, AZ\, 85282\, United States
ATTACH;FMTTYPE=image/png:https://swiha.edu/wp-content/uploads/2023/09/Yoga-Open-House-3.png
END:VEVENT
BEGIN:VEVENT
DTSTART;TZID=America/Phoenix:20240206T100000
DTEND;TZID=America/Phoenix:20240206T110000
DTSTAMP:20260422T120905
CREATED:20230922T155005Z
LAST-MODIFIED:20230922T155005Z
UID:106523-1707213600-1707217200@swiha.edu
SUMMARY:Yoga Teacher Training – 2/6/24
DESCRIPTION:Come meet the teacher\, ask any questions you may have about the program\, and gain some insight into what lies ahead for you within SWIHA’s YTT programs! \nOPEN HOUSE: February\, 6th 2024\nWHERE: Spirit of Yoga (1420 E Southern Ave. Tempe\, AZ 85282)\nRSVP: info@swiha.edu \nFast Track YTT Program Start Date:\nFebruary 12\, 2024 – Evenings (Monday-Thursday 10am -1pm) \nStudents who have successfully completed Yoga Teacher training with SWIHA\, a Registered Yoga School (RYS®)\, receive a Registered Yoga Teacher (RYT®) designation based on their level of training and teaching experience. We teach\, UNITY Yoga\, which is a classically inspired Yoga Teacher Training program\, based on the 8-limbs of yoga\, offered with a transformational approach. We are not a guru or lineage based program\, rather each student is encouraged to go within to find their personal truth and find their authentic expression as a teacher. We teach students to teach safe\, sustainable and transformative yoga classes. We strive to provide a ‘safe space’ and ‘safe container’ for learning and transformation — a place or environment in which a students can feel confident they will be safe from criticism\, discrimination\, harassment\, or any other emotional or physical harm. Located in Tempe\, Arizona\, our program has been Yoga Alliance approved for over 20 years. \nCall 480-994-9244 for additional questions and assistance.
URL:https://swiha.edu/event/yoga-teacher-training-2-6-24/
LOCATION:Spirit of Yoga\, 1420 E Southern Ave\, Tempe\, AZ\, 85282\, United States
ATTACH;FMTTYPE=image/png:https://swiha.edu/wp-content/uploads/2023/09/Yoga-Open-House-4.png
END:VEVENT
END:VCALENDAR